Workbook

Sheet Sluitend budget 13-03-17
A1: 2015
A2: DNB1638 | B2: Programma Best In Class Informatiebeveiliging | C2: 2015
C3: ICT (uren) | I3: RPM | K3: C&I | M3: ID | O3: Communicatie | Q3: Repro | S3: P&O | U3: Bvtr | W3: Overig | Y3: Business (uren) | AD3: Totaal (uren)
A4: Project | B4: Omschrijving | C4: Actuals | D4: ETC | E4: EAC | F4: Budget | G4: Delta | I4: Actuals | J4: ETC | K4: Actuals | L4: ETC | M4: Actuals | N4: ETC | O4: Actuals | P4: ETC | Q4: Actuals | R4: ETC | S4: Actuals | T4: ETC | U4: Actuals | V4: ETC | W4: Actuals | X4: ETC | Y4: Actuals | Z4: ETC | AA4: EAC | AB4: Budget | AC4: Delta | AD4: Actuals | AE4: ETC | AF4: EAC | AG4: Budget | AH4: Delta
A5: Cultuur Ethiek & Gedrag
A6: DNB1769 | B6: BIC - Bewustwording nieuwe medewerkers en inhuurkrachten | C6: 0 | D6: 0 | E6: =C6+D6 -> 0 | F6: 0 | G6: =F6-E6 -> 0 | Y6: =I6+K6+M6+O6+Q6+S6+U6+W6 -> 0 | Z6: =J6+L6+N6+P6+R6+T6+V6+X6 -> 0 | AA6: =Y6+Z6 -> 0 | AB6: =AG6-F6 -> 81 | AC6: =AB6-AA6 -> 81 | AD6: =C6+Y6 -> 0 | AE6: =D6+Z6 -> 0 | AF6: =AD6+AE6 -> 0 | AG6: 81 | AH6: =AG6-AF6 -> 81
A7: DNB1770 | B7: BIC - E-Learning | C7: 0 | D7: 0 | E7: =C7+D7 -> 0 | F7: 0 | G7: =F7-E7 -> 0 | K7: 223 | Y7: =I7+K7+M7+O7+Q7+S7+U7+W7 -> 223 | Z7: =J7+L7+N7+P7+R7+T7+V7+X7 -> 0 | AA7: =Y7+Z7 -> 223 | AB7: =AG7-F7 -> 486 | AC7: =AB7-AA7 -> 263 | AD7: =C7+Y7 -> 223 | AE7: =D7+Z7 -> 0 | AF7: =AD7+AE7 -> 223 | AG7: 486 | AH7: =AG7-AF7 -> 263
A8: DNB1771 | B8: BIC - Informeren en communiceren (afgesloten) | C8: 0 | D8: 0 | E8: =C8+D8 -> 0 | F8: 0 | G8: =F8-E8 -> 0 | J8: 0 | K8: 26 | L8: 0 | P8: 0 | R8: 0 | Y8: =I8+K8+M8+O8+Q8+S8+U8+W8 -> 26 | Z8: =J8+L8+N8+P8+R8+T8+V8+X8 -> 0 | AA8: =Y8+Z8 -> 26 | AB8: =AG8-F8 -> 26 | AC8: =AB8-AA8 -> 0 | AD8: =C8+Y8 -> 26 | AE8: =D8+Z8 -> 0 | AF8: =AD8+AE8 -> 26 | AG8: 26 | AH8: =AG8-AF8 -> 0
A9: DNB1772 | B9: BIC - Ontwikkelmodel voor managers (omgang met vertrouwelijke informatie) | C9: 0 | D9: 0 | E9: =C9+D9 -> 0 | F9: 0 | G9: =F9-E9 -> 0 | K9: 219 | Y9: =I9+K9+M9+O9+Q9+S9+U9+W9 -> 219 | Z9: =J9+L9+N9+P9+R9+T9+V9+X9 -> 0 | AA9: =Y9+Z9 -> 219 | AB9: =AG9-F9 -> 405 | AC9: =AB9-AA9 -> 186 | AD9: =C9+Y9 -> 219 | AE9: =D9+Z9 -> 0 | AF9: =AD9+AE9 -> 219 | AG9: 405 | AH9: =AG9-AF9 -> 186
A10: DNB1773 | B10: BIC - Training van de directie en divisiedirecteuren | C10: 0 | D10: 0 | E10: =C10+D10 -> 0 | F10: 0 | G10: =F10-E10 -> 0 | Y10: =I10+K10+M10+O10+Q10+S10+U10+W10 -> 0 | Z10: =J10+L10+N10+P10+R10+T10+V10+X10 -> 0 | AA10: =Y10+Z10 -> 0 | AB10: =AG10-F10 -> 0 | AC10: =AB10-AA10 -> 0 | AD10: =C10+Y10 -> 0 | AE10: =D10+Z10 -> 0 | AF10: =AD10+AE10 -> 0 | AG10: 0 | AH10: =AG10-AF10 -> 0
A11: DNB1774 | B11: BIC - Training voor managers | C11: 0 | D11: 0 | E11: =C11+D11 -> 0 | F11: 0 | G11: =F11-E11 -> 0 | K11: 96 | Y11: =I11+K11+M11+O11+Q11+S11+U11+W11 -> 96 | Z11: =J11+L11+N11+P11+R11+T11+V11+X11 -> 0 | AA11: =Y11+Z11 -> 96 | AB11: =AG11-F11 -> 162 | AC11: =AB11-AA11 -> 66 | AD11: =C11+Y11 -> 96 | AE11: =D11+Z11 -> 0 | AF11: =AD11+AE11 -> 96 | AG11: 162 | AH11: =AG11-AF11 -> 66
A12: DNB1812 | B12: CEG metingen | C12: 0 | D12: 0 | E12: =C12+D12 -> 0 | F12: 0 | G12: =F12-E12 -> 0 | Y12: =I12+K12+M12+O12+Q12+S12+U12+W12 -> 0 | Z12: =J12+L12+N12+P12+R12+T12+V12+X12 -> 0 | AA12: =Y12+Z12 -> 0 | AB12: =AG12-F12 -> 100 | AC12: =AB12-AA12 -> 100 | AD12: =C12+Y12 -> 0 | AE12: =D12+Z12 -> 0 | AF12: =AD12+AE12 -> 0 | AG12: 100 | AH12: =AG12-AF12 -> 100
A14: Data classificatie
A15: DNB1775 | B15: BIC - Assesment en implementatie DNB applicaties (IDA) | C15: 1 | D15: 0 | E15: =C15+D15 -> 1 | F15: 111 | G15: =F15-E15 -> 110 | Y15: 81 | Z15: =J15+L15+N15+P15+R15+T15+V15+X15 -> 0 | AA15: =Y15+Z15 -> 81 | AB15: =AG15-F15 -> 132 | AC15: =AB15-AA15 -> 51 | AD15: =C15+Y15 -> 82 | AE15: =D15+Z15 -> 0 | AF15: =AD15+AE15 -> 82 | AG15: 243 | AH15: =AG15-AF15 -> 161
A16: DNB1776 | B16: BIC - Assessment en implementatie Dataclassificatie DNB Documenten (IDD) | C16: 0 | D16: 0 | E16: =C16+D16 -> 0 | F16: 81 | G16: =F16-E16 -> 81 | Y16: 81 | Z16: =J16+L16+N16+P16+R16+T16+V16+X16 -> 0 | AA16: =Y16+Z16 -> 81 | AB16: =AG16-F16 -> 365 | AC16: =AB16-AA16 -> 284 | AD16: =C16+Y16 -> 81 | AE16: =D16+Z16 -> 0 | AF16: =AD16+AE16 -> 81 | AG16: 446 | AH16: =AG16-AF16 -> 365
A17: DNB1777 | B17: BIC - Renovatie Data Classificatie schema DNB (ReDaC) | C17: 37 | D17: 0 | E17: =C17+D17 -> 37 | F17: 41 | G17: =F17-E17 -> 4 | M17: 143 | Y17: =I17+K17+M17+O17+Q17+S17+U17+W17 -> 143 | Z17: =J17+L17+N17+P17+R17+T17+V17+X17 -> 0 | AA17: =Y17+Z17 -> 143 | AB17: =AG17-F17 -> 81 | AC17: =AB17-AA17 -> -62 | AD17: =C17+Y17 -> 180 | AE17: =D17+Z17 -> 0 | AF17: =AD17+AE17 -> 180 | AG17: 122 | AH17: =AG17-AF17 -> -58
A18: IB Policies en procedures
A19: DNB1778 | B19: BIC - Renovatie Informatie Beveiligings Policies&procedures (RIBPP) | C19: 187 | D19: 0 | E19: =C19+D19 -> 187 | F19: 200 | G19: =F19-E19 -> 13 | I19: 547 | W19: 20 | Y19: =I19+K19+M19+O19+Q19+S19+U19+W19 -> 567 | Z19: =J19+L19+N19+P19+R19+T19+V19+X19 -> 0 | AA19: =Y19+Z19 -> 567 | AB19: =AG19-F19 -> 567 | AC19: =AB19-AA19 -> 0 | AD19: =C19+Y19 -> 754 | AE19: =D19+Z19 -> 0 | AF19: =AD19+AE19 -> 754 | AG19: 767 | AH19: =AG19-AF19 -> 13
A20: DNB2277 | B20: BIC - Governance Informatie Beveiliging (GIB)
A21: DNB1781 | B21: BIC - Supplier monitoring (SuMo) | C21: 0 | D21: 0 | E21: =C21+D21 -> 0 | F21: 0 | G21: =F21-E21 -> 0 | Y21: =I21+K21+M21+O21+Q21+S21+U21+W21 -> 0 | Z21: =J21+L21+N21+P21+R21+T21+V21+X21 -> 0 | AA21: =Y21+Z21 -> 0 | AB21: =AG21-F21 -> 649 | AC21: =AB21-AA21 -> 649 | AD21: =C21+Y21 -> 0 | AE21: =D21+Z21 -> 0 | AF21: =AD21+AE21 -> 0 | AG21: 649 | AH21: =AG21-AF21 -> 649
A22: Identity and Access Management
A23: DNB1779 | B23: BIC - Key management (KEMA) | C23: 0 | D23: 0 | E23: =C23+D23 -> 0 | F23: 0 | G23: =F23-E23 -> 0 | Y23: =I23+K23+M23+O23+Q23+S23+U23+W23 -> 0 | Z23: =J23+L23+N23+P23+R23+T23+V23+X23 -> 0 | AA23: =Y23+Z23 -> 0 | AB23: =AG23-F23 -> 324 | AC23: =AB23-AA23 -> 324 | AD23: =C23+Y23 -> 0 | AE23: =D23+Z23 -> 0 | AF23: =AD23+AE23 -> 0 | AG23: 324 | AH23: =AG23-AF23 -> 324
A24: DNB1780 | B24: BIC - User Access Control (USACO) | C24: 352 | D24: 0 | E24: =C24+D24 -> 352 | F24: 352 | G24: =F24-E24 -> 0 | Y24: =I24+K24+M24+O24+Q24+S24+U24+W24 -> 0 | Z24: =J24+L24+N24+P24+R24+T24+V24+X24 -> 0 | AA24: =Y24+Z24 -> 0 | AB24: =AG24-F24 -> 134 | AC24: =AB24-AA24 -> 134 | AD24: =C24+Y24 -> 352 | AE24: =D24+Z24 -> 0 | AF24: =AD24+AE24 -> 352 | AG24: 486 | AH24: =AG24-AF24 -> 134
A25: DNB2373 | B25: BIC - Instroom Doorstroom Uitstroom
A26: Programmamanagement
A27: DNB1595 | B27: Programmamanagement | C27: =1880+756 -> 2636 | D27: 0 | E27: =C27+D27 -> 2636 | F27: 1600 | G27: =F27-E27 -> -1036 | I27: 328 | J27: 0 | Y27: =I27+K27+M27+O27+Q27+S27+U27+W27 -> 328 | Z27: =J27+L27+N27+P27+R27+T27+V27+X27 -> 0 | AA27: =Y27+Z27 -> 328 | AB27: =AG27-F27 -> 1084 | AC27: =AB27-AA27 -> 756 | AD27: =C27+Y27 -> 2964 | AE27: =D27+Z27 -> 0 | AF27: =AD27+AE27 -> 2964 | AG27: =2400+363-79 -> 2684 | AH27: =AG27-AF27 -> -280
A28: Security Monitoring
A29: DNB1727 | B29: BIC - Implementatie CDC | C29: =2271-I29 -> 2041 | D29: 0 | E29: =C29+D29 -> 2041 | F29: 2215 | G29: =F29-E29 -> 174 | I29: 230 | Y29: =I29+K29+M29+O29+Q29+S29+U29+W29 -> 230 | Z29: =J29+L29+N29+P29+R29+T29+V29+X29 -> 0 | AA29: =Y29+Z29 -> 230 | AB29: =AG29-F29 -> 1190 | AC29: =AB29-AA29 -> 960 | AD29: =C29+Y29 -> 2271 | AE29: =D29+Z29 -> 0 | AF29: =AD29+AE29 -> 2271 | AG29: 3405 | AH29: =AG29-AF29 -> 1134
A30: DNB1453 | B30: SIEM selectie en implementatie (afgesloten) | C30: 214 | D30: 0 | E30: =C30+D30 -> 214 | F30: 0 | G30: =F30-E30 -> -214 | Y30: =I30+K30+M30+O30+Q30+S30+U30+W30 -> 0 | Z30: =J30+L30+N30+P30+R30+T30+V30+X30 -> 0 | AA30: =Y30+Z30 -> 0 | AB30: =AG30-F30 -> 214 | AC30: =AB30-AA30 -> 214 | AD30: =C30+Y30 -> 214 | AE30: =D30+Z30 -> 0 | AF30: =AD30+AE30 -> 214 | AG30: 214 | AH30: =AG30-AF30 -> 0
B31: Totaal | C31: =SUM(C6:C30) -> 5468 | D31: =SUM(D6:D30) -> 0 | E31: =SUM(E6:E30) -> 5468 | F31: =SUM(F6:F30) -> 4600 | G31: =F31-E31 -> -868 | I31: =SUM(I6:I30) -> 1105 | J31: =SUM(J6:J30) -> 0 | K31: =SUM(K6:K30) -> 564 | L31: =SUM(L6:L30) -> 0 | M31: =SUM(M6:M30) -> 143 | N31: =SUM(N6:N30) -> 0 | O31: =SUM(O6:O30) -> 0 | P31: =SUM(P6:P30) -> 0 | ... AB31: =SUM(AB6:AB30) -> 6000 | AC31: =AB31-AA31 -> 4006 | AD31: =SUM(AD6:AD30) -> 7462 | AE31: =SUM(AE6:AE30) -> 0 | AF31: =SUM(AF6:AF30) -> 7462 | AG31: =SUM(AG6:AG30) -> 10600 | AH31: =AG31-AF31 -> 3138
B32: Programma budget 2015 (programmaplan) | F32: 4600 | AB32: 6100
B33: Toegewezen budget 2015 (jaarplan) | F33: 4600
A37: 2016
A38: DNB1638 | B38: Programma Best In Class Informatiebeveiliging | C38: 2016
C39: ICT (uren) | I39: FBS | K39: C&I | M39: ID | O39: Communicatie | Q39: Repro | S39: P&O | U39: Bvtr | W39: Overig | Y39: Business (uren) | AD39: Totaal (uren)
A40: Project | B40: Omschrijving | C40: Actuals | D40: ETC | E40: EAC | F40: Budget | G40: Delta | I40: Actuals | J40: ETC | K40: Actuals | L40: ETC | M40: Actuals | N40: ETC | O40: Actuals | P40: ETC | Q40: Actuals | R40: ETC | S40: Actuals | T40: ETC | U40: Actuals | V40: ETC | W40: Actuals | X40: ETC | Y40: Actuals | Z40: ETC | AA40: EAC | AB40: Budget | AC40: Delta | AD40: Actuals | AE40: ETC | AF40: EAC | AG40: Budget | AH40: Delta
A41: Cultuur Ethiek & Gedrag
A42: DNB1769 | B42: BIC - Bewustwording nieuwe medewerkers en inhuurkrachten (afgesloten) | C42: 0 | D42: 0 | E42: =C42+D42 -> 0 | F42: 0 | G42: 0 | Y42: 0 | Z42: 0 | AA42: =Y42+Z42 -> 0 | AB42: 0 | AC42: 0 | AD42: =C42+Y42 -> 0 | AE42: =D42+Z42 -> 0 | AF42: =E42+AA42 -> 0 | AG42: =F42+AB42 -> 0 | AH42: =AG42-AF42 -> 0
A43: DNB1770 | B43: BIC - E-Learning (afgesloten) | C43: 0 | D43: 0 | E43: =C43+D43 -> 0 | F43: 50 | G43: 50 | K43: 132 | L43: =120-K43 -> -12 | N43: 20 | P43: 20 | X43: 30 | Y43: 291 | Z43: 0 | AA43: =Y43+Z43 -> 291 | AB43: 0 | AC43: -287 | AD43: =C43+Y43 -> 291 | AE43: =D43+Z43 -> 0 | AF43: =E43+AA43 -> 291 | AG43: =F43+AB43 -> 50 | AH43: =AG43-AF43 -> -241
A44: DNB1771 | B44: BIC - Informeren en communiceren (afgesloten) | C44: 0 | D44: 0 | E44: =C44+D44 -> 0 | F44: 0 | G44: 0 | Y44: 0 | Z44: 0 | AA44: =Y44+Z44 -> 0 | AB44: 0 | AC44: 0 | AD44: =C44+Y44 -> 0 | AE44: =D44+Z44 -> 0 | AF44: =E44+AA44 -> 0 | AG44: =F44+AB44 -> 0 | AH44: =AG44-AF44 -> 0
...

Sheet Burnrate ICT
A2: 2017 | E2: Budget
E3: Jan | F3: Feb | G3: Mrt | H3: Apr | I3: Mei | J3: Jun | K3: Jul | L3: Aug | M3: Sep | N3: Okt | O3: Nov | P3: Dec
E4: 3900 | F4: 3900 | G4: 3900 | H4: 3900 | I4: 3900 | J4: 3900 | K4: 3900 | L4: 3900 | M4: 3900 | N4: 3900 | O4: 3900 | P4: 3900
A6: Burnrate ICT uren (ETC) | E6: ETC
A7: Project | B7: Omschrijving | C7: ETC | E7: Jan | F7: Feb | G7: Mrt | H7: Apr | I7: Mei | J7: Jun | K7: Jul | L7: Aug | M7: Sep | N7: Okt | O7: Nov | P7: Dec
A8: Cultuur Ethiek & Gedrag
A9: DNB1769 | B9: BIC - Bewustwording nieuwe medewerkers en inhuurkrachten (afgesloten) | C9: =SUM(E9:P9) -> 0
A10: DNB1770 | B10: BIC - E-Learning (afgesloten) | C10: =SUM(E10:P10) -> 0
A11: DNB1771 | B11: BIC - Informeren en communiceren (afgesloten) | C11: =SUM(E11:P11) -> 0
A12: DNB1772 | B12: BIC - Ontwikkelmodel voor managers (omgang met vertrouwelijke informatie) (afgesloten) | C12: =SUM(E12:P12) -> 0
A13: DNB1773 | B13: BIC - Training van de directie en divisiedirecteuren (afgesloten) | C13: =SUM(E13:P13) -> 0
A14: DNB1774 | B14: BIC - Training voor managers (afgesloten) | C14: =SUM(E14:P14) -> 0
A15: DNB1812 | B15: CEG metingen (afgesloten) | C15: =SUM(E15:P15) -> 0
A16: DNBxxxx | B16: BIC - Awareness
A17: Data classificatie
A18: DNB1775 | B18: BIC - Assesment en implementatie DNB applicaties (IDA) (afgesloten) | C18: =SUM(E18:P18) -> 0
A19: DNB1776 | B19: BIC - Assessment en implementatie Dataclassificatie DNB Documenten (IDD) (afgesloten) | C19: =SUM(E19:P19) -> 0
A20: DNB1777 | B20: BIC - Renovatie Data Classificatie schema DNB (ReDaC) (afgesloten) | C20: =SUM(E20:P20) -> 0
A21: IB Policies en procedures
A22: DNB1778 | B22: BIC - Renovatie Informatie Beveiligings Policies&procedures (RIBPP) (afgesloten) | C22: =SUM(E22:P22) -> 0
A23: DNB2277 | B23: BIC - Governance Informatie Beveiliging (GIB) | C23: =SUM(E23:P23) -> 0
A24: DNB1781 | B24: BIC - CLM-IB | C24: =SUM(E24:P24) -> 16 | P24: 16
A25: Identity and Access Management
A26: DNB1779 | B26: BIC - Key management (KEMA) (afgesloten) | C26: =SUM(E26:P26) -> 0
A27: DNB1780 | B27: BIC - User Access Control (USACO) | C27: =SUM(E27:P27) -> 147 | P27: 147
A28: DNB2373 | B28: BIC - Instroom Doorstroom Uitstroom | C28: =SUM(E28:P28) -> 0
A29: Programmamanagement
A30: DNB1595 | B30: Programmamanagement | C30: =SUM(E30:P30) -> 97 | P30: 97
A31: Security Monitoring
A32: DNB1727 | B32: BIC - Implementatie CDC (afgesloten) | C32: =SUM(E32:P32) -> 0
A33: DNB1453 | B33: SIEM selectie en implementatie (afgesloten) | C33: =SUM(E33:P33) -> 0
B34: Totaal | C34: =SUM(C8:C33) -> 260 | F34: =SUM(F8:F33) -> 0 | G34: =SUM(G8:G33) -> 0 | H34: =SUM(H8:H33) -> 0 | I34: =SUM(I8:I33) -> 0 | J34: =SUM(J8:J33) -> 0 | K34: =SUM(K8:K33) -> 0 | L34: =SUM(L8:L33) -> 0 | M34: =SUM(M8:M33) -> 0 | ... P34: =SUM(P8:P33) -> 260
A36: Burnrate ICT uren (Actuals) | E36: Actuals
A37: =A7 -> Project | B37: =B7 -> Omschrijving | C37: Actuals | E37: Jan | F37: Feb | G37: Mrt | H37: Apr | I37: Mei | J37: Jun | K37: Jul | L37: Aug | M37: Sep | N37: Okt | O37: Nov | P37: Dec
A38: Cultuur Ethiek & Gedrag
A39: DNB1769 | B39: BIC - Bewustwording nieuwe medewerkers en inhuurkrachten (afgesloten) | C39: =SUM(E39:P39) -> 0
A40: DNB1770 | B40: BIC - E-Learning (afgesloten) | C40: =SUM(E40:P40) -> 0
A41: DNB1771 | B41: BIC - Informeren en communiceren (afgesloten) | C41: =SUM(E41:P41) -> 0
A42: DNB1772 | B42: BIC - Ontwikkelmodel voor managers (omgang met vertrouwelijke informatie) (afgesloten) | C42: =SUM(E42:P42) -> 0
A43: DNB1773 | B43: BIC - Training van de directie en divisiedirecteuren (afgesloten) | C43: =SUM(E43:P43) -> 0
...

Sheet Burnrate Business
A2: 2017 | E2: Budget
E3: Jan | F3: Feb | G3: Mrt | H3: Apr | I3: Mei | J3: Jun | K3: Jul | L3: Aug | M3: Sep | N3: Okt | O3: Nov | P3: Dec
E4: 3900 | F4: 3900 | G4: 3900 | H4: 3900 | I4: 3900 | J4: 3900 | K4: 3900 | L4: 3900 | M4: 3900 | N4: 3900 | O4: 3900 | P4: 3900
A6: Burnrate ICT uren (ETC) | E6: ETC
A7: Project | B7: Omschrijving | C7: ETC | E7: Jan | F7: Feb | G7: Mrt | H7: Apr | I7: Mei | J7: Jun | K7: Jul | L7: Aug | M7: Sep | N7: Okt | O7: Nov | P7: Dec
A8: Cultuur Ethiek & Gedrag
A9: DNB1769 | B9: BIC - Bewustwording nieuwe medewerkers en inhuurkrachten (afgesloten) | C9: =SUM(E9:P9) -> 0
A10: DNB1770 | B10: BIC - E-Learning (afgesloten) | C10: =SUM(E10:P10) -> 0
A11: DNB1771 | B11: BIC - Informeren en communiceren (afgesloten) | C11: =SUM(E11:P11) -> 0
A12: DNB1772 | B12: BIC - Ontwikkelmodel voor managers (omgang met vertrouwelijke informatie) (afgesloten) | C12: =SUM(E12:P12) -> 0
A13: DNB1773 | B13: BIC - Training van de directie en divisiedirecteuren (afgesloten) | C13: =SUM(E13:P13) -> 0
A14: DNB1774 | B14: BIC - Training voor managers (afgesloten) | C14: =SUM(E14:P14) -> 0
A15: DNB1812 | B15: CEG metingen (afgesloten) | C15: =SUM(E15:P15) -> 0
A16: DNBxxxx | B16: BIC - Awareness | C16: =SUM(E16:P16) -> 120 | P16: 120
A17: Data classificatie
A18: DNB1775 | B18: BIC - Assesment en implementatie DNB applicaties (IDA) (afgesloten) | C18: =SUM(E18:P18) -> 0
A19: DNB1776 | B19: BIC - Assessment en implementatie Dataclassificatie DNB Documenten (IDD) (afgesloten) | C19: =SUM(E19:P19) -> 0
A20: DNB1777 | B20: BIC - Renovatie Data Classificatie schema DNB (ReDaC) (afgesloten) | C20: =SUM(E20:P20) -> 0
A21: IB Policies en procedures
A22: DNB1778 | B22: BIC - Renovatie Informatie Beveiligings Policies&procedures (RIBPP) (afgesloten) | C22: =SUM(E22:P22) -> 0
A23: DNB2277 | B23: BIC - Governance Informatie Beveiliging (GIB) | C23: =SUM(E23:P23) -> 645 | P23: 645
A24: DNB1781 | B24: BIC - CLM-IB | C24: =SUM(E24:P24) -> 168 | P24: 168
A25: Identity and Access Management
A26: DNB1779 | B26: BIC - Key management (KEMA) (afgerond) | C26: =SUM(E26:P26) -> 0
A27: DNB1780 | B27: BIC - User Access Control (USACO) | C27: =SUM(E27:P27) -> 505 | P27: 505
A28: DNB2373 | B28: BIC - Instroom Doorstroom Uitstroom | C28: =SUM(E28:P28) -> 72 | P28: 72
A29: Programmamanagement
A30: DNB1595 | B30: Programmamanagement | C30: =SUM(E30:P30) -> 284 | P30: 284
A31: Security Monitoring
A32: DNB1727 | B32: BIC - Implementatie CDC (afgesloten) | C32: =SUM(E32:P32) -> 0
A33: DNB1453 | B33: SIEM selectie en implementatie (afgesloten) | C33: =SUM(E33:P33) -> 0
B34: Totaal | C34: =SUM(C8:C33) -> 1794 | F34: =SUM(F8:F33) -> 0 | G34: =SUM(G8:G33) -> 0 | H34: =SUM(H8:H33) -> 0 | I34: =SUM(I8:I33) -> 0 | J34: =SUM(J8:J33) -> 0 | K34: =SUM(K8:K33) -> 0 | L34: =SUM(L8:L33) -> 0 | M34: =SUM(M8:M33) -> 0 | ... P34: =SUM(P8:P33) -> 1794
A36: Burnrate ICT uren (Actuals) | E36: Actuals
A37: =A7 -> Project | B37: =B7 -> Omschrijving | C37: Actuals | E37: Jan | F37: Feb | G37: Mrt | H37: Apr | I37: Mei | J37: Jun | K37: Jul | L37: Aug | M37: Sep | N37: Okt | O37: Nov | P37: Dec
A38: Cultuur Ethiek & Gedrag
A39: DNB1769 | B39: BIC - Bewustwording nieuwe medewerkers en inhuurkrachten (afgesloten) | C39: =SUM(E39:P39) -> 0
A40: DNB1770 | B40: BIC - E-Learning (afgesloten) | C40: =SUM(E40:P40) -> 0
A41: DNB1771 | B41: BIC - Informeren en communiceren (afgesloten) | C41: =SUM(E41:P41) -> 0
A42: DNB1772 | B42: BIC - Ontwikkelmodel voor managers (omgang met vertrouwelijke informatie) (afgesloten) | C42: =SUM(E42:P42) -> 0
A43: DNB1773 | B43: BIC - Training van de directie en divisiedirecteuren (afgesloten) | C43: =SUM(E43:P43) -> 0
...

Sheet Burnrate template
A1: Mark Hartogsveld
A2: ICT uren | I2: ETC 2017
A3: Project | B3: Omschrijving | C3: Actuals | D3: ETC | E3: EAC | F3: Budget | G3: Delta | I3: Jan | J3: Feb | K3: Mrt | L3: Apr | M3: Mei | N3: Jun | O3: Jul | P3: Aug | Q3: Sep | R3: Okt | S3: Nov | T3: Dec
A4: DNB1776 | B4: BIC - Assessment en implementatie Dataclassificatie DNB Documenten (IDD) | C4: ='Sluitend budget 13-03-17'!C86 -> 113 | D4: ='Sluitend budget 13-03-17'!D86 -> 0 | E4: =C4+D4 -> 113 | F4: ='Sluitend budget 13-03-17'!F86 -> 204 | G4: =F4-E4 -> 91
A5: Business uren | I5: ETC 2017
A6: Project | B6: Omschrijving | C6: Actuals | D6: ETC | E6: EAC | F6: Budget | G6: Delta | I6: Jan | J6: Feb | K6: Mrt | L6: Apr | M6: Mei | N6: Jun | O6: Jul | P6: Aug | Q6: Sep | R6: Okt | S6: Nov | T6: Dec
A7: DNB1776 | B7: BIC - Assessment en implementatie Dataclassificatie DNB Documenten (IDD) | C7: ='Sluitend budget 13-03-17'!Y86 -> 533 | D7: ='Sluitend budget 13-03-17'!Z86 -> 0 | E7: =C7+D7 -> 533 | F7: ='Sluitend budget 13-03-17'!AB86 -> 1084 | G7: =F7-E7 -> 551
A9: Menno Boerema
A10: ICT uren | I10: ETC 2017
A11: Project | B11: Omschrijving | C11: Actuals | D11: ETC | E11: EAC | F11: Budget | G11: Delta | I11: Jan | J11: Feb | K11: Mrt | L11: Apr | M11: Mei | N11: Jun | O11: Jul | P11: Aug | Q11: Sep | R11: Okt | S11: Nov | T11: Dec
A12: DNB1779 | B12: BIC - Key management (KEMA) | C12: ='Sluitend budget 13-03-17'!C90 -> 0 | D12: ='Sluitend budget 13-03-17'!D90 -> 0 | E12: =C12+D12 -> 0 | F12: ='Sluitend budget 13-03-17'!F90 -> 0 | G12: =F12-E12 -> 0
A13: DNB1780 | B13: BIC - User Access Control (USACO) | C13: ='Sluitend budget 13-03-17'!C97 -> 1219 | D13: ='Sluitend budget 13-03-17'!D97 -> 0 | E13: =C13+D13 -> 1219 | F13: ='Sluitend budget 13-03-17'!F97 -> 1336 | G13: =F13-E13 -> 117
A14: DNB1781 | B14: BIC - Supplier monitoring (SuMo) | C14: ='Sluitend budget 13-03-17'!C95 -> 52 | D14: ='Sluitend budget 13-03-17'!D95 -> 0 | E14: =C14+D14 -> 52 | F14: ='Sluitend budget 13-03-17'!F95 -> 0 | G14: =F14-E14 -> -52
A15: Business uren | I15: ETC 2017
A16: Project | B16: Omschrijving | C16: Actuals | D16: ETC | E16: EAC | F16: Budget | G16: Delta | I16: Jan | J16: Feb | K16: Mrt | L16: Apr | M16: Mei | N16: Jun | O16: Jul | P16: Aug | Q16: Sep | R16: Okt | S16: Nov | T16: Dec
A17: DNB1779 | B17: BIC - Key management (KEMA) | C17: ='Sluitend budget 13-03-17'!Y90 -> 0 | D17: ='Sluitend budget 13-03-17'!Z90 -> 0 | E17: =C17+D17 -> 0 | F17: ='Sluitend budget 13-03-17'!AB90 -> 0 | G17: =F17-E17 -> 0
A18: DNB1780 | B18: BIC - User Access Control (USACO) | C18: ='Sluitend budget 13-03-17'!Y97 -> 4251 | D18: ='Sluitend budget 13-03-17'!Z97 -> 0 | E18: =C18+D18 -> 4251 | F18: ='Sluitend budget 13-03-17'!AB97 -> 6472 | G18: =F18-E18 -> 2221
A19: DNB1781 | B19: BIC - Supplier monitoring (SuMo) | C19: ='Sluitend budget 13-03-17'!Y95 -> 1139 | D19: ='Sluitend budget 13-03-17'!Z95 -> 0 | E19: =C19+D19 -> 1139 | F19: ='Sluitend budget 13-03-17'!AB95 -> 576 | G19: =F19-E19 -> -563
A21: Erik Werson
A22: ICT uren | I22: ETC 2017
A23: Project | B23: Omschrijving | C23: Actuals | D23: ETC | E23: EAC | F23: Budget | G23: Delta | I23: Jan | J23: Feb | K23: Mrt | L23: Apr | M23: Mei | N23: Jun | O23: Jul | P23: Aug | Q23: Sep | R23: Okt | S23: Nov | T23: Dec
A24: DNB2277 | B24: BIC - Governance Informatie Beveiliging | C24: ='Sluitend budget 13-03-17'!C94 -> 0 | D24: ='Sluitend budget 13-03-17'!D94 -> 0 | E24: =C24+D24 -> 0 | F24: ='Sluitend budget 13-03-17'!F94 -> 92 | G24: =F24-E24 -> 92
A25: Business uren | I25: ETC 2017
A26: Project | B26: Omschrijving | C26: Actuals | D26: ETC | E26: EAC | F26: Budget | G26: Delta | I26: Jan | J26: Feb | K26: Mrt | L26: Apr | M26: Mei | N26: Jun | O26: Jul | P26: Aug | Q26: Sep | R26: Okt | S26: Nov | T26: Dec
A27: DNB2277 | B27: BIC - Governance Informatie Beveiliging | C27: ='Sluitend budget 13-03-17'!Y94 -> 1555 | D27: ='Sluitend budget 13-03-17'!Z94 -> 0 | E27: =C27+D27 -> 1555 | F27: ='Sluitend budget 13-03-17'!AB94 -> 3371 | G27: =F27-E27 -> 1816
A29: Leo Scholtes
A30: ICT uren | I30: ETC 2017
A31: Project | B31: Omschrijving | C31: Actuals | D31: ETC | E31: EAC | F31: Budget | G31: Delta | I31: Jan | J31: Feb | K31: Mrt | L31: Apr | M31: Mei | N31: Jun | O31: Jul | P31: Aug | Q31: Sep | R31: Okt | S31: Nov | T31: Dec
A32: DNB2373 | B32: BIC - Instroom Doorstroom Uitstroom | C32: ='Sluitend budget 13-03-17'!C98 -> 0 | D32: ='Sluitend budget 13-03-17'!D98 -> 0 | E32: =C32+D32 -> 0 | F32: ='Sluitend budget 13-03-17'!F98 -> 0 | G32: =F32-E32 -> 0
A33: Business uren | I33: ETC 2017
A34: Project | B34: Omschrijving | C34: Actuals | D34: ETC | E34: EAC | F34: Budget | G34: Delta | I34: Jan | J34: Feb | K34: Mrt | L34: Apr | M34: Mei | N34: Jun | O34: Jul | P34: Aug | Q34: Sep | R34: Okt | S34: Nov | T34: Dec
A35: DNB2373 | B35: BIC - Instroom Doorstroom Uitstroom | C35: ='Sluitend budget 13-03-17'!Y98 -> 421 | D35: ='Sluitend budget 13-03-17'!Z98 -> 0 | E35: =C35+D35 -> 421 | F35: ='Sluitend budget 13-03-17'!AB98 -> 800 | G35: =F35-E35 -> 379
A37: Jeroen Bouma
A38: ICT uren | I38: ETC 2017
A39: Project | B39: Omschrijving | C39: Actuals | D39: ETC | E39: EAC | F39: Budget | G39: Delta | I39: Jan | J39: Feb | K39: Mrt | L39: Apr | M39: Mei | N39: Jun | O39: Jul | P39: Aug | Q39: Sep | R39: Okt | S39: Nov | T39: Dec
C40: ='Sluitend budget 13-03-17'!C93 -> 0 | D40: ='Sluitend budget 13-03-17'!D93 -> 0 | E40: =C40+D40 -> 0 | F40: ='Sluitend budget 13-03-17'!F93 -> 320 | G40: =F40-E40 -> 320
A41: Business uren | I41: ETC 2017
A42: Project | B42: Omschrijving | C42: Actuals | D42: ETC | E42: EAC | F42: Budget | G42: Delta | I42: Jan | J42: Feb | K42: Mrt | L42: Apr | M42: Mei | N42: Jun | O42: Jul | P42: Aug | Q42: Sep | R42: Okt | S42: Nov | T42: Dec
C43: ='Sluitend budget 13-03-17'!Y93 -> 0 | D43: ='Sluitend budget 13-03-17'!Z93 -> 120 | E43: =C43+D43 -> 120 | F43: ='Sluitend budget 13-03-17'!AB98 -> 800 | G43: =F43-E43 -> 680
C57: Alleen kolom C, D en E kopieren naar bestand "burnrate (input projectleiders)"

Sheet Jaarbudgetten (PgMP)
A1: 2015
A2: DNB1638 | B2: Programma Best In Class Informatiebeveiliging | C2: 2015
C3: ICT (uren) | I3: RPM | K3: C&I | M3: ID | O3: Communicatie | Q3: Repro | S3: P&O | U3: Bvtr | W3: Overig | Y3: Business (uren) | AD3: Totaal (uren)
A4: Project | B4: Omschrijving | C4: Actuals | D4: ETC | E4: EAC | F4: Budget | G4: Delta | I4: Actuals | J4: ETC | K4: Actuals | L4: ETC | M4: Actuals | N4: ETC | O4: Actuals | P4: ETC | Q4: Actuals | R4: ETC | S4: Actuals | T4: ETC | U4: Actuals | V4: ETC | W4: Actuals | X4: ETC | Y4: Actuals | Z4: ETC | AA4: EAC | AB4: Budget | AC4: Delta | AD4: Actuals | AE4: ETC | AF4: EAC | AG4: Budget | AH4: Delta
A5: Cultuur Ethiek & Gedrag
A6: DNB1769 | B6: BIC - Bewustwording nieuwe medewerkers en inhuurkrachten | C6: 0 | D6: 0 | E6: =C6+D6 -> 0 | F6: 0 | G6: =F6-E6 -> 0 | Y6: =I6+K6+M6+O6+Q6+S6+U6+W6 -> 0 | Z6: =J6+L6+N6+P6+R6+T6+V6+X6 -> 0 | AA6: =Y6+Z6 -> 0 | AB6: =AG6-F6 -> 81 | AC6: =AB6-AA6 -> 81 | AD6: =C6+I6+K6+M6+O6+Q6+S6+U6+W6 -> 0 | AE6: =D6+J6+L6+N6+P6+R6+T6+V6+X6 -> 0 | AF6: =AD6+AE6 -> 0 | AG6: 81 | AH6: =AG6-AF6 -> 81
A7: DNB1770 | B7: BIC - E-Learning | C7: 0 | D7: 0 | E7: =C7+D7 -> 0 | F7: 0 | G7: =F7-E7 -> 0 | K7: 223 | Y7: =I7+K7+M7+O7+Q7+S7+U7+W7 -> 223 | Z7: =J7+L7+N7+P7+R7+T7+V7+X7 -> 0 | AA7: =Y7+Z7 -> 223 | AB7: =AG7-F7 -> 486 | AC7: =AB7-AA7 -> 263 | AD7: =C7+I7+K7+M7+O7+Q7+S7+U7+W7 -> 223 | AE7: =D7+J7+L7+N7+P7+R7+T7+V7+X7 -> 0 | AF7: =AD7+AE7 -> 223 | AG7: 486 | AH7: =AG7-AF7 -> 263
A8: DNB1771 | B8: BIC - Informeren en communiceren (project is komen te vervallen) | C8: 0 | D8: 0 | E8: =C8+D8 -> 0 | F8: 0 | G8: =F8-E8 -> 0 | J8: 0 | K8: 26 | L8: 0 | P8: 0 | R8: 0 | Y8: =I8+K8+M8+O8+Q8+S8+U8+W8 -> 26 | Z8: =J8+L8+N8+P8+R8+T8+V8+X8 -> 0 | AA8: =Y8+Z8 -> 26 | AB8: =AG8-F8 -> 26 | AC8: =AB8-AA8 -> 0 | AD8: =C8+I8+K8+M8+O8+Q8+S8+U8+W8 -> 26 | AE8: =D8+J8+L8+N8+P8+R8+T8+V8+X8 -> 0 | AF8: =AD8+AE8 -> 26 | AG8: 26 | AH8: =AG8-AF8 -> 0
A9: DNB1772 | B9: BIC - Ontwikkelmodel voor managers (omgang met vertrouwelijke informatie) | C9: 0 | D9: 0 | E9: =C9+D9 -> 0 | F9: 0 | G9: =F9-E9 -> 0 | K9: 219 | Y9: =I9+K9+M9+O9+Q9+S9+U9+W9 -> 219 | Z9: =J9+L9+N9+P9+R9+T9+V9+X9 -> 0 | AA9: =Y9+Z9 -> 219 | AB9: =AG9-F9 -> 405 | AC9: =AB9-AA9 -> 186 | AD9: =C9+I9+K9+M9+O9+Q9+S9+U9+W9 -> 219 | AE9: =D9+J9+L9+N9+P9+R9+T9+V9+X9 -> 0 | AF9: =AD9+AE9 -> 219 | AG9: 405 | AH9: =AG9-AF9 -> 186
A10: DNB1773 | B10: BIC - Training van de directie en divisiedirecteuren | C10: 0 | D10: 0 | E10: =C10+D10 -> 0 | F10: 0 | G10: =F10-E10 -> 0 | Y10: =I10+K10+M10+O10+Q10+S10+U10+W10 -> 0 | Z10: =J10+L10+N10+P10+R10+T10+V10+X10 -> 0 | AA10: =Y10+Z10 -> 0 | AB10: =AG10-F10 -> 0 | AC10: =AB10-AA10 -> 0 | AD10: =C10+I10+K10+M10+O10+Q10+S10+U10+W10 -> 0 | AE10: =D10+J10+L10+N10+P10+R10+T10+V10+X10 -> 0 | AF10: =AD10+AE10 -> 0 | AG10: 0 | AH10: =AG10-AF10 -> 0
A11: DNB1774 | B11: BIC - Training voor managers | C11: 0 | D11: 0 | E11: =C11+D11 -> 0 | F11: 0 | G11: =F11-E11 -> 0 | K11: 96 | Y11: =I11+K11+M11+O11+Q11+S11+U11+W11 -> 96 | Z11: =J11+L11+N11+P11+R11+T11+V11+X11 -> 0 | AA11: =Y11+Z11 -> 96 | AB11: =AG11-F11 -> 162 | AC11: =AB11-AA11 -> 66 | AD11: =C11+I11+K11+M11+O11+Q11+S11+U11+W11 -> 96 | AE11: =D11+J11+L11+N11+P11+R11+T11+V11+X11 -> 0 | AF11: =AD11+AE11 -> 96 | AG11: 162 | AH11: =AG11-AF11 -> 66
A12: DNB1812 | B12: CEG metingen | C12: 0 | D12: 0 | E12: =C12+D12 -> 0 | F12: 0 | G12: =F12-E12 -> 0 | Y12: =I12+K12+M12+O12+Q12+S12+U12+W12 -> 0 | Z12: =J12+L12+N12+P12+R12+T12+V12+X12 -> 0 | AA12: =Y12+Z12 -> 0 | AB12: =AG12-F12 -> 100 | AC12: =AB12-AA12 -> 100 | AD12: =C12+I12+K12+M12+O12+Q12+S12+U12+W12 -> 0 | AE12: =D12+J12+L12+N12+P12+R12+T12+V12+X12 -> 0 | AF12: =AD12+AE12 -> 0 | AG12: 100 | AH12: =AG12-AF12 -> 100
A13: Data classificatie
A14: DNB1775 | B14: BIC - Assesment en implementatie DNB applicaties (IDA) | C14: 82 | D14: 0 | E14: =C14+D14 -> 82 | F14: 111 | G14: =F14-E14 -> 29 | Y14: =I14+K14+M14+O14+Q14+S14+U14+W14 -> 0 | Z14: =J14+L14+N14+P14+R14+T14+V14+X14 -> 0 | AA14: =Y14+Z14 -> 0 | AB14: =AG14-F14 -> 132 | AC14: =AB14-AA14 -> 132 | AD14: =C14+I14+K14+M14+O14+Q14+S14+U14+W14 -> 82 | AE14: =D14+J14+L14+N14+P14+R14+T14+V14+X14 -> 0 | AF14: =AD14+AE14 -> 82 | AG14: 243 | AH14: =AG14-AF14 -> 161
A15: DNB1776 | B15: BIC - Assessment en implementatie Dataclassificatie DNB Documenten (IDD) | C15: 81 | D15: 0 | E15: =C15+D15 -> 81 | F15: 81 | G15: =F15-E15 -> 0 | Y15: =I15+K15+M15+O15+Q15+S15+U15+W15 -> 0 | Z15: =J15+L15+N15+P15+R15+T15+V15+X15 -> 0 | AA15: =Y15+Z15 -> 0 | AB15: =AG15-F15 -> 365 | AC15: =AB15-AA15 -> 365 | AD15: =C15+I15+K15+M15+O15+Q15+S15+U15+W15 -> 81 | AE15: =D15+J15+L15+N15+P15+R15+T15+V15+X15 -> 0 | AF15: =AD15+AE15 -> 81 | AG15: 446 | AH15: =AG15-AF15 -> 365
A16: DNB1777 | B16: BIC - Renovatie Data Classificatie schema DNB (ReDaC) | C16: 37 | D16: 0 | E16: =C16+D16 -> 37 | F16: 41 | G16: =F16-E16 -> 4 | M16: 143 | Y16: =I16+K16+M16+O16+Q16+S16+U16+W16 -> 143 | Z16: =J16+L16+N16+P16+R16+T16+V16+X16 -> 0 | AA16: =Y16+Z16 -> 143 | AB16: =AG16-F16 -> 81 | AC16: =AB16-AA16 -> -62 | AD16: =C16+I16+K16+M16+O16+Q16+S16+U16+W16 -> 180 | AE16: =D16+J16+L16+N16+P16+R16+T16+V16+X16 -> 0 | AF16: =AD16+AE16 -> 180 | AG16: 122 | AH16: =AG16-AF16 -> -58
A17: IB Policies en procedures
A18: DNB1778 | B18: BIC - Renovatie Informatie Beveiligings Policies&procedures (RIBPP) | C18: 187 | D18: 0 | E18: =C18+D18 -> 187 | F18: 200 | G18: =F18-E18 -> 13 | I18: 547 | W18: 20 | Y18: =I18+K18+M18+O18+Q18+S18+U18+W18 -> 567 | Z18: =J18+L18+N18+P18+R18+T18+V18+X18 -> 0 | AA18: =Y18+Z18 -> 567 | AB18: =AG18-F18 -> 567 | AC18: =AB18-AA18 -> 0 | AD18: =C18+I18+K18+M18+O18+Q18+S18+U18+W18 -> 754 | AE18: =D18+J18+L18+N18+P18+R18+T18+V18+X18 -> 0 | AF18: =AD18+AE18 -> 754 | AG18: 767 | AH18: =AG18-AF18 -> 13
A19: DNB2277 | B19: BIC - Governance Informatie Beveiliging
A20: Identity and Access Management
A21: DNB1779 | B21: BIC - Key management (KEMA) | D21: 0 | E21: =C21+D21 -> 0 | F21: 0 | G21: =F21-E21 -> 0 | Y21: =I21+K21+M21+O21+Q21+S21+U21+W21 -> 0 | Z21: =J21+L21+N21+P21+R21+T21+V21+X21 -> 0 | AA21: =Y21+Z21 -> 0 | AB21: =AG21-F21 -> 324 | AC21: =AB21-AA21 -> 324 | AD21: =C21+I21+K21+M21+O21+Q21+S21+U21+W21 -> 0 | AE21: =D21+J21+L21+N21+P21+R21+T21+V21+X21 -> 0 | AF21: =AD21+AE21 -> 0 | AG21: 324 | AH21: =AG21-AF21 -> 324
A22: DNB1780 | B22: BIC - User Access Control (USACO) | C22: 352 | D22: 0 | E22: =C22+D22 -> 352 | F22: 352 | G22: =F22-E22 -> 0 | Y22: =I22+K22+M22+O22+Q22+S22+U22+W22 -> 0 | Z22: =J22+L22+N22+P22+R22+T22+V22+X22 -> 0 | AA22: =Y22+Z22 -> 0 | AB22: =AG22-F22 -> 134 | AC22: =AB22-AA22 -> 134 | AD22: =C22+I22+K22+M22+O22+Q22+S22+U22+W22 -> 352 | AE22: =D22+J22+L22+N22+P22+R22+T22+V22+X22 -> 0 | AF22: =AD22+AE22 -> 352 | AG22: 486 | AH22: =AG22-AF22 -> 134
A23: Programmamanagement
A24: DNB1595 | B24: Programmamanagement | C24: =1880+756 -> 2636 | D24: 0 | E24: =C24+D24 -> 2636 | F24: 1600 | G24: =F24-E24 -> -1036 | I24: 328 | J24: 0 | Y24: =I24+K24+M24+O24+Q24+S24+U24+W24 -> 328 | Z24: =J24+L24+N24+P24+R24+T24+V24+X24 -> 0 | AA24: =Y24+Z24 -> 328 | AB24: =AG24-F24 -> 1084 | AC24: =AB24-AA24 -> 756 | AD24: =C24+I24+K24+M24+O24+Q24+S24+U24+W24 -> 2964 | AE24: =D24+J24+L24+N24+P24+R24+T24+V24+X24 -> 0 | AF24: =AD24+AE24 -> 2964 | AG24: =2400+363-79 -> 2684 | AH24: =AG24-AF24 -> -280
A25: Security Monitoring
A26: DNB1727 | B26: BIC - Implementatie CDC | C26: =2271-I26 -> 2041 | D26: 0 | E26: =C26+D26 -> 2041 | F26: 2215 | G26: =F26-E26 -> 174 | I26: 230 | Y26: =I26+K26+M26+O26+Q26+S26+U26+W26 -> 230 | Z26: =J26+L26+N26+P26+R26+T26+V26+X26 -> 0 | AA26: =Y26+Z26 -> 230 | AB26: =AG26-F26 -> 1190 | AC26: =AB26-AA26 -> 960 | AD26: =C26+I26+K26+M26+O26+Q26+S26+U26+W26 -> 2271 | AE26: =D26+J26+L26+N26+P26+R26+T26+V26+X26 -> 0 | AF26: =AD26+AE26 -> 2271 | AG26: 3405 | AH26: =AG26-AF26 -> 1134
A27: DNB1453 | B27: SIEM selectie en implementatie (afgesloten) | C27: 214 | D27: 0 | E27: =C27+D27 -> 214 | F27: 0 | G27: =F27-E27 -> -214 | Y27: =I27+K27+M27+O27+Q27+S27+U27+W27 -> 0 | Z27: =J27+L27+N27+P27+R27+T27+V27+X27 -> 0 | AA27: =Y27+Z27 -> 0 | AB27: =AG27-F27 -> 214 | AC27: =AB27-AA27 -> 214 | AD27: =C27+I27+K27+M27+O27+Q27+S27+U27+W27 -> 214 | AE27: =D27+J27+L27+N27+P27+R27+T27+V27+X27 -> 0 | AF27: =AD27+AE27 -> 214 | AG27: 214 | AH27: =AG27-AF27 -> 0
A28: DNB1781 | B28: BIC - Supplier monitoring (SuMo) | D28: 0 | E28: =C28+D28 -> 0 | F28: 0 | G28: =F28-E28 -> 0 | Y28: =I28+K28+M28+O28+Q28+S28+U28+W28 -> 0 | Z28: =J28+L28+N28+P28+R28+T28+V28+X28 -> 0 | AA28: =Y28+Z28 -> 0 | AB28: =AG28-F28 -> 649 | AC28: =AB28-AA28 -> 649 | AD28: =C28+I28+K28+M28+O28+Q28+S28+U28+W28 -> 0 | AE28: =D28+J28+L28+N28+P28+R28+T28+V28+X28 -> 0 | AF28: =AD28+AE28 -> 0 | AG28: 649 | AH28: =AG28-AF28 -> 649
B29: Totaal | C29: =SUM(C6:C28) -> 5630 | D29: =SUM(D6:D28) -> 0 | E29: =SUM(E6:E28) -> 5630 | F29: =SUM(F6:F28) -> 4600 | G29: =F29-E29 -> -1030 | I29: =SUM(I6:I28) -> 1105 | J29: =SUM(J6:J28) -> 0 | K29: =SUM(K6:K28) -> 564 | L29: =SUM(L6:L28) -> 0 | M29: =SUM(M6:M28) -> 143 | N29: =SUM(N6:N28) -> 0 | O29: =SUM(O6:O28) -> 0 | P29: =SUM(P6:P28) -> 0 | ... AB29: =SUM(AB6:AB28) -> 6000 | AC29: =AB29-AA29 -> 4168 | AD29: =SUM(AD6:AD28) -> 7462 | AE29: =SUM(AE6:AE28) -> 0 | AF29: =SUM(AF6:AF28) -> 7462 | AG29: =SUM(AG6:AG28) -> 10600 | AH29: =AG29-AF29 -> 3138
A32: 2016
A33: DNB1638 | B33: Programma Best In Class Informatiebeveiliging | C33: 2016
C34: ICT (uren) | I34: FBS | K34: C&I | M34: ID | O34: Communicatie | Q34: Repro | S34: P&O | U34: Bvtr | W34: Overig | Y34: Business (uren) | AD34: Totaal (uren)
A35: Project | B35: Omschrijving | C35: Actuals | D35: ETC | E35: EAC | F35: Budget | G35: Delta | I35: Actuals | J35: ETC | K35: Actuals | L35: ETC | M35: Actuals | N35: ETC | O35: Actuals | P35: ETC | Q35: Actuals | R35: ETC | S35: Actuals | T35: ETC | U35: Actuals | V35: ETC | W35: Actuals | X35: ETC | Y35: Actuals | Z35: ETC | AA35: EAC | AB35: Budget | AC35: Delta | AD35: Actuals | AE35: ETC | AF35: EAC | AG35: Budget | AH35: Delta
A36: Cultuur Ethiek & Gedrag
A37: DNB1769 | B37: BIC - Bewustwording nieuwe medewerkers en inhuurkrachten | E37: =C37+D37 -> 0 | F37: 0 | G37: =F37-E37 -> 0 | AA37: 0 | AB37: 0 | AC37: =AB37-AA37 -> 0 | AD37: =C37+I37+K37+M37+O37+Q37+S37+U37+W37 -> 0 | AE37: =D37+J37+L37+N37+P37+R37+T37+V37+X37 -> 0 | AF37: =AD37+AE37 -> 0 | AG37: 0 | AH37: =AG37-AF37 -> 0
A38: DNB1770 | B38: BIC - E-Learning | E38: 50 | F38: 50 | G38: =F38-E38 -> 0 | K38: 132 | L38: =120-K38 -> -12 | N38: 20 | P38: 20 | X38: 30 | AA38: 190 | AB38: 0 | AC38: =AB38-AA38 -> -190 | AD38: =C38+I38+K38+M38+O38+Q38+S38+U38+W38 -> 132 | AE38: =D38+J38+L38+N38+P38+R38+T38+V38+X38 -> 58 | AF38: =AD38+AE38 -> 190 | AG38: 0 | AH38: =AG38-AF38 -> -190
A39: DNB1771 | B39: BIC - Informeren en communiceren (project is komen te vervallen) | E39: =C39+D39 -> 0 | F39: 0 | G39: =F39-E39 -> 0 | AA39: 0 | AB39: 0 | AC39: =AB39-AA39 -> 0 | AD39: =C39+I39+K39+M39+O39+Q39+S39+U39+W39 -> 0 | AE39: =D39+J39+L39+N39+P39+R39+T39+V39+X39 -> 0 | AF39: =AD39+AE39 -> 0 | AG39: 0 | AH39: =AG39-AF39 -> 0
A40: DNB1772 | B40: BIC - Ontwikkelmodel voor managers (omgang met vertrouwelijke informatie) | E40: =C40+D40 -> 0 | F40: 0 | G40: =F40-E40 -> 0 | K40: 22 | L40: =66-K40 -> 44 | AA40: 66 | AB40: 0 | AC40: =AB40-AA40 -> -66 | AD40: =C40+I40+K40+M40+O40+Q40+S40+U40+W40 -> 22 | AE40: =D40+J40+L40+N40+P40+R40+T40+V40+X40 -> 44 | AF40: =AD40+AE40 -> 66 | AG40: 0 | AH40: =AG40-AF40 -> -66
A41: DNB1773 | B41: BIC - Training van de directie en divisiedirecteuren | E41: =C41+D41 -> 0 | F41: 0 | G41: =F41-E41 -> 0 | J41: 40 | L41: 132 | AA41: 172 | AB41: 161 | AC41: =AB41-AA41 -> -11 | AD41: =C41+I41+K41+M41+O41+Q41+S41+U41+W41 -> 0 | AE41: =D41+J41+L41+N41+P41+R41+T41+V41+X41 -> 172 | AF41: =AD41+AE41 -> 172 | AG41: 161 | AH41: =AG41-AF41 -> -11
A42: DNB1774 | B42: BIC - Training voor managers | E42: =C42+D42 -> 0 | F42: 0 | G42: =F42-E42 -> 0 | K42: 70 | L42: =80-K42 -> 10 | AA42: 78 | AB42: 80 | AC42: =AB42-AA42 -> 2 | AD42: =C42+I42+K42+M42+O42+Q42+S42+U42+W42 -> 70 | AE42: =D42+J42+L42+N42+P42+R42+T42+V42+X42 -> 10 | AF42: =AD42+AE42 -> 80 | AG42: 80 | AH42: =AG42-AF42 -> 0
...

Sheet Budgetten
A1: Project | B1: Budget ICT (uren) | C1: Budget Business (uren) | D1: Bron (TRIM ID)
A2: USACO (fase 1 & 2) | B2: 1662 | C2: 164 | D2: Project charter (2015/771178)
A3: USACO (overige fasen) | B3: 2000 | C3: 1000 | D3: Project charter (2015/771178)
A4: CDC | B4: =3963+1212 -> 5175 | C4: 390 | D4: PMP (2015/176488)
A5: E-learning | B5: 50 | C5: 590 | D5: Project charter (2015/309800)
A6: Ontwikkelingsmodel | B6: 40 | C6: 630 | D6: Project charter (2015/332833)
A7: Training voor managers | B7: 0 | C7: 240 | D7: Project charter (2015/318662)
A8: ReDaC | D8: charter?
A9: RIBPP 2015 | B9: 240 | C9: =980+20+60+20 -> 1080 | D9: Project charter (2015/667227)
A10: RIBPP 2016 | B10: 320 | C10: 1600 | D10: Project charter (2015/667227)
A11: IDD fase 1 & 2 | B11: 300 | C11: 350 | D11: Project charter (2015/830315)
A12: IDD fase (overig) | B12: 700 | C12: 650 | D12: Project charter (2015/830315)
A13: IDA fase 1 & 2 | B13: 400 | C13: 400 | D13: Project charter (2015/830325)
A14: IDA fase (overig) | B14: 1000 | C14: 450 | D14: Project charter (2015/830325)
