Workbook

Sheet Sluitend budget 13-03-17
A1: 2015
A2: DNB1638 | B2: Programma Best In Class Informatiebeveiliging | C2: 2015
C3: ICT (uren) | I3: RPM | K3: C&I | M3: ID | O3: Communicatie | Q3: Repro | S3: P&O | U3: Bvtr | W3: Overig | Y3: Business (uren) | AD3: Totaal (uren)
A4: Project | B4: Omschrijving | C4: Actuals | D4: ETC | E4: EAC | F4: Budget | G4: Delta | I4: Actuals | J4: ETC | K4: Actuals | L4: ETC | M4: Actuals | N4: ETC | O4: Actuals | P4: ETC | Q4: Actuals | R4: ETC | S4: Actuals | T4: ETC | U4: Actuals | V4: ETC | W4: Actuals | X4: ETC | Y4: Actuals | Z4: ETC | AA4: EAC | AB4: Budget | AC4: Delta | AD4: Actuals | AE4: ETC | AF4: EAC | AG4: Budget | AH4: Delta
A5: Cultuur Ethiek & Gedrag
A6: DNB1769 | B6: BIC - Bewustwording nieuwe medewerkers en inhuurkrachten | C6: 0 | D6: 0 | E6: =C6+D6 -> 0 | F6: 0 | G6: =F6-E6 -> 0 | Y6: =I6+K6+M6+O6+Q6+S6+U6+W6 -> 0 | Z6: =J6+L6+N6+P6+R6+T6+V6+X6 -> 0 | AA6: =Y6+Z6 -> 0 | AB6: =AG6-F6 -> 81 | AC6: =AB6-AA6 -> 81 | AD6: =C6+Y6 -> 0 | AE6: =D6+Z6 -> 0 | AF6: =AD6+AE6 -> 0 | AG6: 81 | AH6: =AG6-AF6 -> 81
A7: DNB1770 | B7: BIC - E-Learning | C7: 0 | D7: 0 | E7: =C7+D7 -> 0 | F7: 0 | G7: =F7-E7 -> 0 | K7: 223 | Y7: =I7+K7+M7+O7+Q7+S7+U7+W7 -> 223 | Z7: =J7+L7+N7+P7+R7+T7+V7+X7 -> 0 | AA7: =Y7+Z7 -> 223 | AB7: =AG7-F7 -> 486 | AC7: =AB7-AA7 -> 263 | AD7: =C7+Y7 -> 223 | AE7: =D7+Z7 -> 0 | AF7: =AD7+AE7 -> 223 | AG7: 486 | AH7: =AG7-AF7 -> 263
A8: DNB1771 | B8: BIC - Informeren en communiceren (afgesloten) | C8: 0 | D8: 0 | E8: =C8+D8 -> 0 | F8: 0 | G8: =F8-E8 -> 0 | J8: 0 | K8: 26 | L8: 0 | P8: 0 | R8: 0 | Y8: =I8+K8+M8+O8+Q8+S8+U8+W8 -> 26 | Z8: =J8+L8+N8+P8+R8+T8+V8+X8 -> 0 | AA8: =Y8+Z8 -> 26 | AB8: =AG8-F8 -> 26 | AC8: =AB8-AA8 -> 0 | AD8: =C8+Y8 -> 26 | AE8: =D8+Z8 -> 0 | AF8: =AD8+AE8 -> 26 | AG8: 26 | AH8: =AG8-AF8 -> 0
A9: DNB1772 | B9: BIC - Ontwikkelmodel voor managers (omgang met vertrouwelijke informatie) | C9: 0 | D9: 0 | E9: =C9+D9 -> 0 | F9: 0 | G9: =F9-E9 -> 0 | K9: 219 | Y9: =I9+K9+M9+O9+Q9+S9+U9+W9 -> 219 | Z9: =J9+L9+N9+P9+R9+T9+V9+X9 -> 0 | AA9: =Y9+Z9 -> 219 | AB9: =AG9-F9 -> 405 | AC9: =AB9-AA9 -> 186 | AD9: =C9+Y9 -> 219 | AE9: =D9+Z9 -> 0 | AF9: =AD9+AE9 -> 219 | AG9: 405 | AH9: =AG9-AF9 -> 186
A10: DNB1773 | B10: BIC - Training van de directie en divisiedirecteuren | C10: 0 | D10: 0 | E10: =C10+D10 -> 0 | F10: 0 | G10: =F10-E10 -> 0 | Y10: =I10+K10+M10+O10+Q10+S10+U10+W10 -> 0 | Z10: =J10+L10+N10+P10+R10+T10+V10+X10 -> 0 | AA10: =Y10+Z10 -> 0 | AB10: =AG10-F10 -> 0 | AC10: =AB10-AA10 -> 0 | AD10: =C10+Y10 -> 0 | AE10: =D10+Z10 -> 0 | AF10: =AD10+AE10 -> 0 | AG10: 0 | AH10: =AG10-AF10 -> 0
A11: DNB1774 | B11: BIC - Training voor managers | C11: 0 | D11: 0 | E11: =C11+D11 -> 0 | F11: 0 | G11: =F11-E11 -> 0 | K11: 96 | Y11: =I11+K11+M11+O11+Q11+S11+U11+W11 -> 96 | Z11: =J11+L11+N11+P11+R11+T11+V11+X11 -> 0 | AA11: =Y11+Z11 -> 96 | AB11: =AG11-F11 -> 162 | AC11: =AB11-AA11 -> 66 | AD11: =C11+Y11 -> 96 | AE11: =D11+Z11 -> 0 | AF11: =AD11+AE11 -> 96 | AG11: 162 | AH11: =AG11-AF11 -> 66
A12: DNB1812 | B12: CEG metingen | C12: 0 | D12: 0 | E12: =C12+D12 -> 0 | F12: 0 | G12: =F12-E12 -> 0 | Y12: =I12+K12+M12+O12+Q12+S12+U12+W12 -> 0 | Z12: =J12+L12+N12+P12+R12+T12+V12+X12 -> 0 | AA12: =Y12+Z12 -> 0 | AB12: =AG12-F12 -> 100 | AC12: =AB12-AA12 -> 100 | AD12: =C12+Y12 -> 0 | AE12: =D12+Z12 -> 0 | AF12: =AD12+AE12 -> 0 | AG12: 100 | AH12: =AG12-AF12 -> 100
A14: Data classificatie
A15: DNB1775 | B15: BIC - Assesment en implementatie DNB applicaties (IDA) | C15: 1 | D15: 0 | E15: =C15+D15 -> 1 | F15: 111 | G15: =F15-E15 -> 110 | Y15: 81 | Z15: =J15+L15+N15+P15+R15+T15+V15+X15 -> 0 | AA15: =Y15+Z15 -> 81 | AB15: =AG15-F15 -> 132 | AC15: =AB15-AA15 -> 51 | AD15: =C15+Y15 -> 82 | AE15: =D15+Z15 -> 0 | AF15: =AD15+AE15 -> 82 | AG15: 243 | AH15: =AG15-AF15 -> 161
A16: DNB1776 | B16: BIC - Assessment en implementatie Dataclassificatie DNB Documenten (IDD) | C16: 0 | D16: 0 | E16: =C16+D16 -> 0 | F16: 81 | G16: =F16-E16 -> 81 | Y16: 81 | Z16: =J16+L16+N16+P16+R16+T16+V16+X16 -> 0 | AA16: =Y16+Z16 -> 81 | AB16: =AG16-F16 -> 365 | AC16: =AB16-AA16 -> 284 | AD16: =C16+Y16 -> 81 | AE16: =D16+Z16 -> 0 | AF16: =AD16+AE16 -> 81 | AG16: 446 | AH16: =AG16-AF16 -> 365
A17: DNB1777 | B17: BIC - Renovatie Data Classificatie schema DNB (ReDaC) | C17: 37 | D17: 0 | E17: =C17+D17 -> 37 | F17: 41 | G17: =F17-E17 -> 4 | M17: 143 | Y17: =I17+K17+M17+O17+Q17+S17+U17+W17 -> 143 | Z17: =J17+L17+N17+P17+R17+T17+V17+X17 -> 0 | AA17: =Y17+Z17 -> 143 | AB17: =AG17-F17 -> 81 | AC17: =AB17-AA17 -> -62 | AD17: =C17+Y17 -> 180 | AE17: =D17+Z17 -> 0 | AF17: =AD17+AE17 -> 180 | AG17: 122 | AH17: =AG17-AF17 -> -58
A18: IB Policies en procedures
A19: DNB1778 | B19: BIC - Renovatie Informatie Beveiligings Policies&procedures (RIBPP) | C19: 187 | D19: 0 | E19: =C19+D19 -> 187 | F19: 200 | G19: =F19-E19 -> 13 | I19: 547 | W19: 20 | Y19: =I19+K19+M19+O19+Q19+S19+U19+W19 -> 567 | Z19: =J19+L19+N19+P19+R19+T19+V19+X19 -> 0 | AA19: =Y19+Z19 -> 567 | AB19: =AG19-F19 -> 567 | AC19: =AB19-AA19 -> 0 | AD19: =C19+Y19 -> 754 | AE19: =D19+Z19 -> 0 | AF19: =AD19+AE19 -> 754 | AG19: 767 | AH19: =AG19-AF19 -> 13
A20: DNB2277 | B20: BIC - Governance Informatie Beveiliging (GIB)
A21: DNB1781 | B21: BIC - Supplier monitoring (SuMo) | C21: 0 | D21: 0 | E21: =C21+D21 -> 0 | F21: 0 | G21: =F21-E21 -> 0 | Y21: =I21+K21+M21+O21+Q21+S21+U21+W21 -> 0 | Z21: =J21+L21+N21+P21+R21+T21+V21+X21 -> 0 | AA21: =Y21+Z21 -> 0 | AB21: =AG21-F21 -> 649 | AC21: =AB21-AA21 -> 649 | AD21: =C21+Y21 -> 0 | AE21: =D21+Z21 -> 0 | AF21: =AD21+AE21 -> 0 | AG21: 649 | AH21: =AG21-AF21 -> 649
A22: Identity and Access Management
A23: DNB1779 | B23: BIC - Key management (KEMA) | C23: 0 | D23: 0 | E23: =C23+D23 -> 0 | F23: 0 | G23: =F23-E23 -> 0 | Y23: =I23+K23+M23+O23+Q23+S23+U23+W23 -> 0 | Z23: =J23+L23+N23+P23+R23+T23+V23+X23 -> 0 | AA23: =Y23+Z23 -> 0 | AB23: =AG23-F23 -> 324 | AC23: =AB23-AA23 -> 324 | AD23: =C23+Y23 -> 0 | AE23: =D23+Z23 -> 0 | AF23: =AD23+AE23 -> 0 | AG23: 324 | AH23: =AG23-AF23 -> 324
A24: DNB1780 | B24: BIC - User Access Control (USACO) | C24: 352 | D24: 0 | E24: =C24+D24 -> 352 | F24: 352 | G24: =F24-E24 -> 0 | Y24: =I24+K24+M24+O24+Q24+S24+U24+W24 -> 0 | Z24: =J24+L24+N24+P24+R24+T24+V24+X24 -> 0 | AA24: =Y24+Z24 -> 0 | AB24: =AG24-F24 -> 134 | AC24: =AB24-AA24 -> 134 | AD24: =C24+Y24 -> 352 | AE24: =D24+Z24 -> 0 | AF24: =AD24+AE24 -> 352 | AG24: 486 | AH24: =AG24-AF24 -> 134
A25: DNB2373 | B25: BIC - Instroom Doorstroom Uitstroom
A26: Programmamanagement
A27: DNB1595 | B27: Programmamanagement | C27: =1880+756 -> 2636 | D27: 0 | E27: =C27+D27 -> 2636 | F27: 1600 | G27: =F27-E27 -> -1036 | I27: 328 | J27: 0 | Y27: =I27+K27+M27+O27+Q27+S27+U27+W27 -> 328 | Z27: =J27+L27+N27+P27+R27+T27+V27+X27 -> 0 | AA27: =Y27+Z27 -> 328 | AB27: =AG27-F27 -> 1084 | AC27: =AB27-AA27 -> 756 | AD27: =C27+Y27 -> 2964 | AE27: =D27+Z27 -> 0 | AF27: =AD27+AE27 -> 2964 | AG27: =2400+363-79 -> 2684 | AH27: =AG27-AF27 -> -280
A28: Security Monitoring
A29: DNB1727 | B29: BIC - Implementatie CDC | C29: =2271-I29 -> 2041 | D29: 0 | E29: =C29+D29 -> 2041 | F29: 2215 | G29: =F29-E29 -> 174 | I29: 230 | Y29: =I29+K29+M29+O29+Q29+S29+U29+W29 -> 230 | Z29: =J29+L29+N29+P29+R29+T29+V29+X29 -> 0 | AA29: =Y29+Z29 -> 230 | AB29: =AG29-F29 -> 1190 | AC29: =AB29-AA29 -> 960 | AD29: =C29+Y29 -> 2271 | AE29: =D29+Z29 -> 0 | AF29: =AD29+AE29 -> 2271 | AG29: 3405 | AH29: =AG29-AF29 -> 1134
A30: DNB1453 | B30: SIEM selectie en implementatie (afgesloten) | C30: 214 | D30: 0 | E30: =C30+D30 -> 214 | F30: 0 | G30: =F30-E30 -> -214 | Y30: =I30+K30+M30+O30+Q30+S30+U30+W30 -> 0 | Z30: =J30+L30+N30+P30+R30+T30+V30+X30 -> 0 | AA30: =Y30+Z30 -> 0 | AB30: =AG30-F30 -> 214 | AC30: =AB30-AA30 -> 214 | AD30: =C30+Y30 -> 214 | AE30: =D30+Z30 -> 0 | AF30: =AD30+AE30 -> 214 | AG30: 214 | AH30: =AG30-AF30 -> 0
B31: Totaal | C31: =SUM(C6:C30) -> 5468 | D31: =SUM(D6:D30) -> 0 | E31: =SUM(E6:E30) -> 5468 | F31: =SUM(F6:F30) -> 4600 | G31: =F31-E31 -> -868 | I31: =SUM(I6:I30) -> 1105 | J31: =SUM(J6:J30) -> 0 | K31: =SUM(K6:K30) -> 564 | L31: =SUM(L6:L30) -> 0 | M31: =SUM(M6:M30) -> 143 | N31: =SUM(N6:N30) -> 0 | O31: =SUM(O6:O30) -> 0 | P31: =SUM(P6:P30) -> 0 | ... AB31: =SUM(AB6:AB30) -> 6000 | AC31: =AB31-AA31 -> 4006 | AD31: =SUM(AD6:AD30) -> 7462 | AE31: =SUM(AE6:AE30) -> 0 | AF31: =SUM(AF6:AF30) -> 7462 | AG31: =SUM(AG6:AG30) -> 10600 | AH31: =AG31-AF31 -> 3138
B32: Programma budget 2015 (programmaplan) | F32: 4600 | AB32: 6100
B33: Toegewezen budget 2015 (jaarplan) | F33: 4600
A37: 2016
A38: DNB1638 | B38: Programma Best In Class Informatiebeveiliging | C38: 2016
C39: ICT (uren) | I39: FBS | K39: C&I | M39: ID | O39: Communicatie | Q39: Repro | S39: P&O | U39: Bvtr | W39: Overig | Y39: Business (uren) | AD39: Totaal (uren)
A40: Project | B40: Omschrijving | C40: Actuals | D40: ETC | E40: EAC | F40: Budget | G40: Delta | I40: Actuals | J40: ETC | K40: Actuals | L40: ETC | M40: Actuals | N40: ETC | O40: Actuals | P40: ETC | Q40: Actuals | R40: ETC | S40: Actuals | T40: ETC | U40: Actuals | V40: ETC | W40: Actuals | X40: ETC | Y40: Actuals | Z40: ETC | AA40: EAC | AB40: Budget | AC40: Delta | AD40: Actuals | AE40: ETC | AF40: EAC | AG40: Budget | AH40: Delta
A41: Cultuur Ethiek & Gedrag
A42: DNB1769 | B42: BIC - Bewustwording nieuwe medewerkers en inhuurkrachten (afgesloten) | C42: 0 | D42: 0 | E42: =C42+D42 -> 0 | F42: 0 | G42: 0 | Y42: 0 | Z42: 0 | AA42: =Y42+Z42 -> 0 | AB42: 0 | AC42: 0 | AD42: =C42+Y42 -> 0 | AE42: =D42+Z42 -> 0 | AF42: =E42+AA42 -> 0 | AG42: =F42+AB42 -> 0 | AH42: =AG42-AF42 -> 0
A43: DNB1770 | B43: BIC - E-Learning (afgesloten) | C43: 0 | D43: 0 | E43: =C43+D43 -> 0 | F43: 50 | G43: 50 | K43: 132 | L43: =120-K43 -> -12 | N43: 20 | P43: 20 | X43: 30 | Y43: 291 | Z43: 0 | AA43: =Y43+Z43 -> 291 | AB43: 0 | AC43: -287 | AD43: =C43+Y43 -> 291 | AE43: =D43+Z43 -> 0 | AF43: =E43+AA43 -> 291 | AG43: =F43+AB43 -> 50 | AH43: =AG43-AF43 -> -241
A44: DNB1771 | B44: BIC - Informeren en communiceren (afgesloten) | C44: 0 | D44: 0 | E44: =C44+D44 -> 0 | F44: 0 | G44: 0 | Y44: 0 | Z44: 0 | AA44: =Y44+Z44 -> 0 | AB44: 0 | AC44: 0 | AD44: =C44+Y44 -> 0 | AE44: =D44+Z44 -> 0 | AF44: =E44+AA44 -> 0 | AG44: =F44+AB44 -> 0 | AH44: =AG44-AF44 -> 0
A45: DNB1772 | B45: BIC - Ontwikkelmodel voor managers (omgang met vertrouwelijke informatie) (afgesloten) | C45: 0 | D45: 0 | E45: =C45+D45 -> 0 | F45: 0 | G45: 0 | K45: 22 | L45: =66-K45 -> 44 | Y45: 35 | Z45: 0 | AA45: =Y45+Z45 -> 35 | AB45: 0 | AC45: -33 | AD45: =C45+Y45 -> 35 | AE45: =D45+Z45 -> 0 | AF45: =E45+AA45 -> 35 | AG45: =F45+AB45 -> 0 | AH45: =AG45-AF45 -> -35
A46: DNB1773 | B46: BIC - Training van de directie en divisiedirecteuren (afgesloten) | C46: 0 | D46: 0 | E46: =C46+D46 -> 0 | F46: 0 | G46: 0 | J46: 40 | L46: 132 | Y46: 0 | Z46: 0 | AA46: =Y46+Z46 -> 0 | AB46: 161 | AC46: 151 | AD46: =C46+Y46 -> 0 | AE46: =D46+Z46 -> 0 | AF46: =E46+AA46 -> 0 | AG46: =F46+AB46 -> 161 | AH46: =AG46-AF46 -> 161
A47: DNB1774 | B47: BIC - Training voor managers (afgesloten) | C47: 0 | D47: 0 | E47: =C47+D47 -> 0 | F47: 0 | G47: 0 | K47: 70 | L47: =80-K47 -> 10 | Y47: 332 | Z47: 0 | AA47: =Y47+Z47 -> 332 | AB47: 103 | AC47: -212 | AD47: =C47+Y47 -> 332 | AE47: =D47+Z47 -> 0 | AF47: =E47+AA47 -> 332 | AG47: =F47+AB47 -> 103 | AH47: =AG47-AF47 -> -229
A48: DNB1812 | B48: CEG metingen (afgesloten) | C48: 0 | D48: 0 | E48: =C48+D48 -> 0 | F48: 0 | G48: 0 | J48: 150 | Y48: 0 | Z48: 0 | AA48: =Y48+Z48 -> 0 | AB48: 0 | AC48: 0 | AD48: =C48+Y48 -> 0 | AE48: =D48+Z48 -> 0 | AF48: =E48+AA48 -> 0 | AG48: =F48+AB48 -> 0 | AH48: =AG48-AF48 -> 0
A50: Data classificatie
A51: DNB1775 | B51: BIC - Assesment en implementatie DNB applicaties (IDA) | C51: 543 | D51: 0 | E51: =C51+D51 -> 543 | F51: 644 | G51: 50 | J51: 25 | L51: 25 | M51: 37 | N51: =250-M51 -> 213 | P51: 50 | X51: 175 | Y51: 832 | Z51: 0 | AA51: =Y51+Z51 -> 832 | AB51: 322 | AC51: -558 | AD51: =C51+Y51 -> 1375 | AE51: =D51+Z51 -> 0 | AF51: =E51+AA51 -> 1375 | AG51: =F51+AB51 -> 966 | AH51: =AG51-AF51 -> -409
A52: DNB1776 | B52: BIC - Assessment en implementatie Dataclassificatie DNB Documenten (IDD) | C52: 156 | D52: 0 | E52: =C52+D52 -> 156 | F52: 238 | G52: 83 | J52: 25 | L52: 25 | M52: 49 | N52: =400-M52 -> 351 | P52: 150 | X52: 75 | Y52: 930 | Z52: 0 | AA52: =Y52+Z52 -> 930 | AB52: 805 | AC52: -148 | AD52: =C52+Y52 -> 1086 | AE52: =D52+Z52 -> 0 | AF52: =E52+AA52 -> 1086 | AG52: =F52+AB52 -> 1043 | AH52: =AG52-AF52 -> -43
A53: DNB1777 | B53: BIC - Renovatie Data Classificatie schema DNB (ReDaC) (afgesloten) | C53: 0 | D53: 0 | E53: =C53+D53 -> 0 | F53: 0 | G53: 0 | M53: 23 | N53: 0 | Y53: 28 | Z53: 0 | AA53: =Y53+Z53 -> 28 | AB53: 0 | AC53: -28 | AD53: =C53+Y53 -> 28 | AE53: =D53+Z53 -> 0 | AF53: =E53+AA53 -> 28 | AG53: =F53+AB53 -> 0 | AH53: =AG53-AF53 -> -28
A54: IB Policies en procedures
A55: DNB1778 | B55: BIC - Renovatie Informatie Beveiligings Policies&procedures (RIBPP) (afgesloten) | C55: 81 | D55: 0 | E55: =C55+D55 -> 81 | F55: 200 | G55: 109 | I55: 181 | J55: =1800-I55 -> 1619 | L55: 50 | N55: 50 | T55: 40 | V55: 40 | X55: 400 | Y55: 185 | Z55: 0 | AA55: =Y55+Z55 -> 185 | AB55: 1609 | AC55: 1424 | AD55: =C55+Y55 -> 266 | AE55: =D55+Z55 -> 0 | AF55: =E55+AA55 -> 266 | AG55: =F55+AB55 -> 1809 | AH55: =AG55-AF55 -> 1543
A56: DNB2277 | B56: BIC - Governance Informatie Beveiliging (GIB) | C56: 10 | D56: 0 | E56: =C56+D56 -> 10 | F56: 0 | G56: -20 | Y56: 1144 | Z56: 0 | AA56: =Y56+Z56 -> 1144 | AB56: 0 | AC56: -1156 | AD56: =C56+Y56 -> 1154 | AE56: =D56+Z56 -> 0 | AF56: =E56+AA56 -> 1154 | AG56: =F56+AB56 -> 0 | AH56: =AG56-AF56 -> -1154
A57: DNB1781 | B57: BIC - Supplier monitoring (SuMo) | C57: 119 | D57: 0 | E57: =C57+D57 -> 119 | F57: 243 | G57: 114 | Y57: 0 | Z57: 0 | AA57: =Y57+Z57 -> 0 | AB57: 0 | AC57: 0 | AD57: =C57+Y57 -> 119 | AE57: =D57+Z57 -> 0 | AF57: =E57+AA57 -> 119 | AG57: =F57+AB57 -> 243 | AH57: =AG57-AF57 -> 124
A58: Identity and Access Management
A59: DNB1779 | B59: BIC - Key management (KEMA) | C59: 15 | D59: 0 | E59: =C59+D59 -> 15 | F59: 0 | G59: -15 | X59: 81 | Y59: 0 | Z59: 0 | AA59: =Y59+Z59 -> 0 | AB59: 0 | AC59: 0 | AD59: =C59+Y59 -> 15 | AE59: =D59+Z59 -> 0 | AF59: =E59+AA59 -> 15 | AG59: =F59+AB59 -> 0 | AH59: =AG59-AF59 -> -15
A60: DNB1780 | B60: BIC - User Access Control (USACO) | C60: 2861 | D60: 0 | E60: =C60+D60 -> 2861 | F60: 2575 | G60: -245 | X60: 1164 | Y60: 0 | Z60: 0 | AA60: =Y60+Z60 -> 0 | AB60: 0 | AC60: 0 | AD60: =C60+Y60 -> 2861 | AE60: =D60+Z60 -> 0 | AF60: =E60+AA60 -> 2861 | AG60: =F60+AB60 -> 2575 | AH60: =AG60-AF60 -> -286
A61: DNB2373 | B61: BIC - Instroom Doorstroom Uitstroom | C61: 32 | D61: 0 | E61: =C61+D61 -> 32 | F61: 0 | G61: -15 | Y61: 0 | Z61: 0 | AA61: =Y61+Z61 -> 0 | AB61: 0 | AC61: 0 | AD61: =C61+Y61 -> 32 | AE61: =D61+Z61 -> 0 | AF61: =E61+AA61 -> 32 | AG61: =F61+AB61 -> 0 | AH61: =AG61-AF61 -> -32
A62: Programmamanagement
A63: DNB1595 | B63: Programmamanagement | C63: 926 | D63: 0 | E63: =C63+D63 -> 926 | F63: 157 | G63: -765 | I63: 668 | J63: =3200-I63 -> 2532 | Y63: 2914 | Z63: 0 | AA63: =Y63+Z63 -> 2914 | AB63: 3200 | AC63: 439 | AD63: =C63+Y63 -> 3840 | AE63: =D63+Z63 -> 0 | AF63: =E63+AA63 -> 3840 | AG63: =F63+AB63 -> 3357 | AH63: =AG63-AF63 -> -483
A64: Security Monitoring
A65: DNB1727 | B65: BIC - Implementatie CDC | C65: 4746 | D65: 0 | E65: =C65+D65 -> 4746 | F65: 2893 | G65: -1741 | I65: 75 | J65: 0 | Y65: 75 | Z65: 0 | AA65: =Y65+Z65 -> 75 | AB65: 0 | AC65: -75 | AD65: =C65+Y65 -> 4821 | AE65: =D65+Z65 -> 0 | AF65: =E65+AA65 -> 4821 | AG65: =F65+AB65 -> 2893 | AH65: =AG65-AF65 -> -1928
A66: DNB1453 | B66: SIEM selectie en implementatie (afgesloten) | C66: 0 | D66: 0 | E66: =C66+D66 -> 0 | F66: 0 | G66: 0 | Y66: 0 | Z66: 0 | AA66: =Y66+Z66 -> 0 | AB66: 0 | AC66: 0 | AD66: =C66+Y66 -> 0 | AE66: =D66+Z66 -> 0 | AF66: =E66+AA66 -> 0 | AG66: =F66+AB66 -> 0 | AH66: =AG66-AF66 -> 0
B67: Totaal | C67: =SUM(C42:C66) -> 9489 | D67: =SUM(D42:D66) -> 0 | E67: =SUM(E42:E66) -> 9489 | F67: =SUM(F42:F66) -> 7000 | G67: =F67-E67 -> -2489 | I67: =SUM(I42:I66) -> 924 | J67: =SUM(J42:J66) -> 4391 | K67: =SUM(K42:K66) -> 224 | L67: =SUM(L42:L66) -> 274 | M67: =SUM(M42:M66) -> 109 | N67: =SUM(N42:N66) -> 634 | O67: =SUM(O42:O66) -> 0 | P67: =SUM(P42:P66) -> 220 | ... AB67: =SUM(AB42:AB66) -> 6200 | AC67: =AB67-AA67 -> -566 | AD67: =SUM(AD42:AD66) -> 16255 | AE67: =SUM(AE42:AE66) -> 0 | AF67: =SUM(AF42:AF66) -> 16255 | AG67: =SUM(AG42:AG66) -> 13200 | AH67: =AG67-AF67 -> -3055
B68: Programma budget 2016 (programmaplan) | F68: 6600 | AB68: 6200
B69: Toegewezen budget 2016 (jaarplan) | F69: 7000
A72: 2017
A73: DNB1638 | B73: Programma Best In Class Informatiebeveiliging | C73: 2017
C74: ICT (uren) | I74: FBS | K74: C&I | M74: ID | O74: Communicatie | Q74: Repro | S74: P&O | U74: Bvtr | W74: Overig | Y74: Business (uren) | AD74: Totaal (uren)
A75: Project | B75: Omschrijving | C75: Actuals | D75: ETC | E75: EAC | F75: Budget | G75: Delta | I75: Actuals | J75: ETC | K75: Actuals | L75: ETC | M75: Actuals | N75: ETC | O75: Actuals | P75: ETC | Q75: Actuals | R75: ETC | S75: Actuals | T75: ETC | U75: Actuals | V75: ETC | W75: Actuals | X75: ETC | Y75: Actuals | Z75: ETC | AA75: EAC | AB75: Budget | AC75: Delta | AD75: Actuals | AE75: ETC | AF75: EAC | AG75: Budget | AH75: Delta
A76: Cultuur Ethiek & Gedrag
A77: DNB1769 | B77: BIC - Bewustwording nieuwe medewerkers en inhuurkrachten (afgesloten) | C77: ='Burnrate ICT'!C39 -> 0 | D77: ='Burnrate ICT'!C9 -> 0 | E77: =C77+D77 -> 0 | F77: 0 | G77: =F77-E77 -> 0 | Y77: ='Burnrate Business'!C39 -> 0 | Z77: ='Burnrate Business'!C9 -> 0 | AA77: =Y77+Z77 -> 0 | AB77: 0 | AC77: =AB77-AA77 -> 0 | AD77: =C77+Y77 -> 0 | AE77: =D77+Z77 -> 0 | AF77: =AD77+AE77 -> 0 | AG77: =F77+AB77 -> 0 | AH77: =AG77-AF77 -> 0
A78: DNB1770 | B78: BIC - E-Learning (afgesloten) | C78: ='Burnrate ICT'!C40 -> 0 | D78: ='Burnrate ICT'!C10 -> 0 | E78: =C78+D78 -> 0 | F78: 0 | G78: =F78-E78 -> 0 | Y78: ='Burnrate Business'!C40 -> 0 | Z78: ='Burnrate Business'!C10 -> 0 | AA78: =Y78+Z78 -> 0 | AB78: 0 | AC78: =AB78-AA78 -> 0 | AD78: =C78+Y78 -> 0 | AE78: =D78+Z78 -> 0 | AF78: =AD78+AE78 -> 0 | AG78: =F78+AB78 -> 0 | AH78: =AG78-AF78 -> 0
A79: DNB1771 | B79: BIC - Informeren en communiceren (afgesloten) | C79: ='Burnrate ICT'!C41 -> 0 | D79: ='Burnrate ICT'!C11 -> 0 | E79: =C79+D79 -> 0 | F79: 0 | G79: =F79-E79 -> 0 | Y79: ='Burnrate Business'!C41 -> 0 | Z79: ='Burnrate Business'!C11 -> 0 | AA79: =Y79+Z79 -> 0 | AB79: 0 | AC79: =AB79-AA79 -> 0 | AD79: =C79+Y79 -> 0 | AE79: =D79+Z79 -> 0 | AF79: =AD79+AE79 -> 0 | AG79: =F79+AB79 -> 0 | AH79: =AG79-AF79 -> 0
A80: DNB1772 | B80: BIC - Ontwikkelmodel voor managers (omgang met vertrouwelijke informatie) (afgesloten) | C80: ='Burnrate ICT'!C42 -> 0 | D80: ='Burnrate ICT'!C12 -> 0 | E80: =C80+D80 -> 0 | F80: 0 | G80: =F80-E80 -> 0 | Y80: ='Burnrate Business'!C42 -> 0 | Z80: ='Burnrate Business'!C12 -> 0 | AA80: =Y80+Z80 -> 0 | AB80: 0 | AC80: =AB80-AA80 -> 0 | AD80: =C80+Y80 -> 0 | AE80: =D80+Z80 -> 0 | AF80: =AD80+AE80 -> 0 | AG80: =F80+AB80 -> 0 | AH80: =AG80-AF80 -> 0
A81: DNB1773 | B81: BIC - Training van de directie en divisiedirecteuren (afgesloten) | C81: ='Burnrate ICT'!C43 -> 0 | D81: ='Burnrate ICT'!C13 -> 0 | E81: =C81+D81 -> 0 | F81: 0 | G81: =F81-E81 -> 0 | Y81: ='Burnrate Business'!C43 -> 0 | Z81: ='Burnrate Business'!C13 -> 0 | AA81: =Y81+Z81 -> 0 | AB81: 0 | AC81: =AB81-AA81 -> 0 | AD81: =C81+Y81 -> 0 | AE81: =D81+Z81 -> 0 | AF81: =AD81+AE81 -> 0 | AG81: =F81+AB81 -> 0 | AH81: =AG81-AF81 -> 0
A82: DNB1774 | B82: BIC - Training voor managers (afgesloten) | C82: ='Burnrate ICT'!C44 -> 0 | D82: ='Burnrate ICT'!C14 -> 0 | E82: =C82+D82 -> 0 | F82: 0 | G82: =F82-E82 -> 0 | Y82: ='Burnrate Business'!C44 -> 0 | Z82: ='Burnrate Business'!C14 -> 0 | AA82: =Y82+Z82 -> 0 | AB82: 0 | AC82: =AB82-AA82 -> 0 | AD82: =C82+Y82 -> 0 | AE82: =D82+Z82 -> 0 | AF82: =AD82+AE82 -> 0 | AG82: =F82+AB82 -> 0 | AH82: =AG82-AF82 -> 0
A83: DNB1812 | B83: CEG metingen (afgesloten) | C83: ='Burnrate ICT'!C45 -> 0 | D83: ='Burnrate ICT'!C15 -> 0 | E83: =C83+D83 -> 0 | F83: 0 | G83: =F83-E83 -> 0 | Y83: ='Burnrate Business'!C45 -> 0 | Z83: ='Burnrate Business'!C15 -> 0 | AA83: =Y83+Z83 -> 0 | AB83: 0 | AC83: =AB83-AA83 -> 0 | AD83: =C83+Y83 -> 0 | AE83: =D83+Z83 -> 0 | AF83: =AD83+AE83 -> 0 | AG83: =F83+AB83 -> 0 | AH83: =AG83-AF83 -> 0
A84: Data classificatie
A85: DNB1775 | B85: BIC - Assesment en implementatie DNB applicaties (IDA) (afgesloten) | C85: ='Burnrate ICT'!C48 -> 21 | D85: ='Burnrate ICT'!C18 -> 0 | E85: =C85+D85 -> 21 | F85: 21 | G85: =F85-E85 -> 0 | J85: 25 | L85: 25 | N85: 200 | P85: 50 | X85: 25 | Y85: ='Burnrate Business'!C48 -> 156 | Z85: ='Burnrate Business'!C18 -> 0 | AA85: =Y85+Z85 -> 156 | AB85: 135 | AC85: =AB85-AA85 -> -21 | AD85: =C85+Y85 -> 177 | AE85: =D85+Z85 -> 0 | AF85: =AD85+AE85 -> 177 | AG85: =F85+AB85 -> 156 | AH85: =AG85-AF85 -> -21
A86: DNB1776 | B86: BIC - Assessment en implementatie Dataclassificatie DNB Documenten (IDD) (afgesloten) | C86: ='Burnrate ICT'!C49 -> 113 | D86: ='Burnrate ICT'!C19 -> 0 | E86: =C86+D86 -> 113 | F86: 204 | G86: =F86-E86 -> 91 | J86: 25 | L86: 25 | N86: 200 | P86: 50 | X86: 25 | Y86: ='Burnrate Business'!C49 -> 533 | Z86: ='Burnrate Business'!C19 -> 0 | AA86: =Y86+Z86 -> 533 | AB86: 1084 | AC86: =AB86-AA86 -> 551 | AD86: =C86+Y86 -> 646 | AE86: =D86+Z86 -> 0 | AF86: =AD86+AE86 -> 646 | AG86: =F86+AB86 -> 1288 | AH86: =AG86-AF86 -> 642
A87: DNB1777 | B87: BIC - Renovatie Data Classificatie schema DNB (ReDaC) (afgesloten) | C87: ='Burnrate ICT'!C50 -> 0 | D87: ='Burnrate ICT'!C20 -> 0 | E87: =C87+D87 -> 0 | F87: 0 | G87: =F87-E87 -> 0 | Y87: ='Burnrate Business'!C50 -> 0 | Z87: ='Burnrate Business'!C20 -> 0 | AA87: =Y87+Z87 -> 0 | AB87: 0 | AC87: =AB87-AA87 -> 0 | AD87: =C87+Y87 -> 0 | AE87: =D87+Z87 -> 0 | AF87: =AD87+AE87 -> 0 | AG87: =F87+AB87 -> 0 | AH87: =AG87-AF87 -> 0
A88: IB Policies en procedures
A89: DNB1778 | B89: BIC - Renovatie Informatie Beveiligings Policies&procedures (RIBPP) (afgesloten) | C89: ='Burnrate ICT'!C52 -> 0 | D89: ='Burnrate ICT'!C22 -> 0 | E89: =C89+D89 -> 0 | F89: 0 | G89: =F89-E89 -> 0 | J89: 0 | Y89: ='Burnrate Business'!C52 -> 0 | Z89: ='Burnrate Business'!C22 -> 0 | AA89: =Y89+Z89 -> 0 | AB89: 0 | AC89: =AB89-AA89 -> 0 | AD89: =C89+Y89 -> 0 | AE89: =D89+Z89 -> 0 | AF89: =AD89+AE89 -> 0 | AG89: =F89+AB89 -> 0 | AH89: =AG89-AF89 -> 0
A90: DNB1779 | B90: BIC - Key management (KEMA) (afgesloten) | C90: ='Burnrate ICT'!C56 -> 0 | D90: ='Burnrate ICT'!C26 -> 0 | E90: =C90+D90 -> 0 | F90: 0 | G90: =F90-E90 -> 0 | Y90: ='Burnrate Business'!C56 -> 0 | Z90: ='Burnrate Business'!C26 -> 0 | AA90: =Y90+Z90 -> 0 | AB90: 0 | AC90: =AB90-AA90 -> 0 | AD90: =C90+Y90 -> 0 | AE90: =D90+Z90 -> 0 | AF90: =AD90+AE90 -> 0 | AG90: =F90+AB90 -> 0 | AH90: =AG90-AF90 -> 0
A91: DNB1727 | B91: BIC - Implementatie CDC (afgesloten) | C91: ='Burnrate ICT'!C62 -> 3 | D91: ='Burnrate ICT'!C32 -> 0 | E91: =C91+D91 -> 3 | F91: 0 | G91: =F91-E91 -> -3 | Y91: ='Burnrate Business'!C62 -> 0 | Z91: ='Burnrate Business'!C32 -> 0 | AA91: =Y91+Z91 -> 0 | AB91: 0 | AC91: =AB91-AA91 -> 0 | AD91: =C91+Y91 -> 3 | AE91: =D91+Z91 -> 0 | AF91: =AD91+AE91 -> 3 | AG91: =F91+AB91 -> 0 | AH91: =AG91-AF91 -> -3
A92: DNB1453 | B92: SIEM selectie en implementatie (afgesloten) | C92: ='Burnrate ICT'!C63 -> 0 | D92: ='Burnrate ICT'!C33 -> 0 | E92: =C92+D92 -> 0 | F92: 0 | G92: =F92-E92 -> 0 | Y92: ='Burnrate Business'!C63 -> 0 | Z92: ='Burnrate Business'!C33 -> 0 | AA92: =Y92+Z92 -> 0 | AB92: 0 | AC92: =AB92-AA92 -> 0 | AD92: =C92+Y92 -> 0 | AE92: =D92+Z92 -> 0 | AF92: =AD92+AE92 -> 0 | AG92: =F92+AB92 -> 0 | AH92: =AG92-AF92 -> 0
A93: DNBxxxx | B93: BIC - Awareness (afgesloten) | C93: ='Burnrate ICT'!C46 -> 0 | D93: ='Burnrate ICT'!C16 -> 0 | E93: =C93+D93 -> 0 | F93: 320 | G93: 0 | Y93: ='Burnrate Business'!C46 -> 0 | Z93: ='Burnrate Business'!C16 -> 120 | AA93: =Y93+Z93 -> 120 | AB93: 2931 | AC93: =AB93-AA93 -> 2811 | AD93: =C93+Y93 -> 0 | AE93: =D93+Z93 -> 120 | AF93: =AD93+AE93 -> 120 | AG93: =F93+AB93 -> 3251 | AH93: =AG93-AF93 -> 3131
A94: DNB2277 | B94: BIC - Governance Informatie Beveiliging (GIB) | C94: ='Burnrate ICT'!C53 -> 0 | D94: ='Burnrate ICT'!C23 -> 0 | E94: =C94+D94 -> 0 | F94: 92 | G94: =F94-E94 -> 92 | P94: 40 | X94: 1573 | Y94: 1555 | Z94: 0 | AA94: =Y94+Z94 -> 1555 | AB94: 3371 | AC94: =AB94-AA94 -> 1816 | AD94: =C94+Y94 -> 1555 | AE94: =D94+Z94 -> 0 | AF94: =AD94+AE94 -> 1555 | AG94: =F94+AB94 -> 3463 | AH94: =AG94-AF94 -> 1908
A95: DNB1781 | B95: BIC - CLM-IB | C95: 52 | D95: 0 | E95: =C95+D95 -> 52 | F95: 0 | G95: =F95-E95 -> -52 | Y95: 1139 | Z95: 0 | AA95: =Y95+Z95 -> 1139 | AB95: 576 | AC95: =AB95-AA95 -> -563 | AD95: =C95+Y95 -> 1191 | AE95: =D95+Z95 -> 0 | AF95: =AD95+AE95 -> 1191 | AG95: =F95+AB95 -> 576 | AH95: =AG95-AF95 -> -615
A96: Identity and Access Management
A97: DNB1780 | B97: BIC - User Access Control (USACO) | C97: 1219 | D97: 0 | E97: =C97+D97 -> 1219 | F97: 1336 | G97: =F97-E97 -> 117 | X97: 164 | Y97: 4251 | Z97: 0 | AA97: =Y97+Z97 -> 4251 | AB97: 6472 | AC97: =AB97-AA97 -> 2221 | AD97: =C97+Y97 -> 5470 | AE97: =D97+Z97 -> 0 | AF97: =AD97+AE97 -> 5470 | AG97: =F97+AB97 -> 7808 | AH97: =AG97-AF97 -> 2338
A98: DNB2373 | B98: BIC - Instroom Doorstroom Uitstroom | C98: ='Burnrate ICT'!C58 -> 0 | D98: ='Burnrate ICT'!C28 -> 0 | E98: =C98+D98 -> 0 | F98: 0 | G98: =F98-E98 -> 0 | Y98: 421 | Z98: 0 | AA98: =Y98+Z98 -> 421 | AB98: 800 | AC98: =AB98-AA98 -> 379 | AD98: =C98+Y98 -> 421 | AE98: =D98+Z98 -> 0 | AF98: =AD98+AE98 -> 421 | AG98: =F98+AB98 -> 800 | AH98: =AG98-AF98 -> 379
A99: Programmamanagement
A100: DNB1595 | B100: Programmamanagement | C100: 1590 | D100: 0 | E100: =C100+D100 -> 1590 | F100: =1572+675-320 -> 1927 | G100: =F100-E100 -> 337 | Y100: 3512 | Z100: 0 | AA100: =Y100+Z100 -> 3512 | AB100: 4560 | AC100: =AB100-AA100 -> 1048 | AD100: =C100+Y100 -> 5102 | AE100: =D100+Z100 -> 0 | AF100: =AD100+AE100 -> 5102 | AG100: =F100+AB100 -> 6487 | AH100: =AG100-AF100 -> 1385
A101: Security Monitoring
B102: Totaal | C102: =SUM(C77:C101) -> 2998 | D102: =SUM(D77:D101) -> 0 | E102: =SUM(E77:E101) -> 2998 | F102: =SUM(F77:F101) -> 3900 | G102: =F102-E102 -> 902 | I102: =SUM(I77:I101) -> 0 | J102: =SUM(J77:J101) -> 50 | K102: =SUM(K77:K101) -> 0 | L102: =SUM(L77:L101) -> 50 | M102: =SUM(M77:M101) -> 0 | N102: =SUM(N77:N101) -> 400 | O102: =SUM(O77:O101) -> 0 | P102: =SUM(P77:P101) -> 140 | ... AB102: =SUM(AB77:AB101) -> 19929 | AC102: =AB102-AA102 -> 8242 | AD102: =SUM(AD77:AD101) -> 14565 | AE102: =SUM(AE77:AE101) -> 120 | AF102: =SUM(AF77:AF101) -> 14685 | AG102: =SUM(AG77:AG101) -> 23829 | AH102: =AG102-AF102 -> 9144
B103: Programma budget 2017 (programmaplan) | F103: 600 | AB103: 200
B104: Toegewezen budget 2017 (jaarplan) | F104: 3900 | AB104: 19929
A107: Totaal
A108: DNB1638 | B108: Programma Best In Class Informatiebeveiliging | C108: Totaal
C109: ICT (uren) | I109: FBS | K109: C&I | M109: ID | O109: Communicatie | Q109: Repro | S109: P&O | U109: Bvtr | W109: Overig | Y109: Business (uren) | AD109: Totaal (uren)
...

Sheet Burnrate ICT
A2: 2017 | E2: Budget
E3: Jan | F3: Feb | G3: Mrt | H3: Apr | I3: Mei | J3: Jun | K3: Jul | L3: Aug | M3: Sep | N3: Okt | O3: Nov | P3: Dec
E4: 3900 | F4: 3900 | G4: 3900 | H4: 3900 | I4: 3900 | J4: 3900 | K4: 3900 | L4: 3900 | M4: 3900 | N4: 3900 | O4: 3900 | P4: 3900
A6: Burnrate ICT uren (ETC) | E6: ETC
A7: Project | B7: Omschrijving | C7: ETC | E7: Jan | F7: Feb | G7: Mrt | H7: Apr | I7: Mei | J7: Jun | K7: Jul | L7: Aug | M7: Sep | N7: Okt | O7: Nov | P7: Dec
A8: Cultuur Ethiek & Gedrag
A9: DNB1769 | B9: BIC - Bewustwording nieuwe medewerkers en inhuurkrachten (afgesloten) | C9: =SUM(E9:P9) -> 0
A10: DNB1770 | B10: BIC - E-Learning (afgesloten) | C10: =SUM(E10:P10) -> 0
A11: DNB1771 | B11: BIC - Informeren en communiceren (afgesloten) | C11: =SUM(E11:P11) -> 0
A12: DNB1772 | B12: BIC - Ontwikkelmodel voor managers (omgang met vertrouwelijke informatie) (afgesloten) | C12: =SUM(E12:P12) -> 0
A13: DNB1773 | B13: BIC - Training van de directie en divisiedirecteuren (afgesloten) | C13: =SUM(E13:P13) -> 0
A14: DNB1774 | B14: BIC - Training voor managers (afgesloten) | C14: =SUM(E14:P14) -> 0
A15: DNB1812 | B15: CEG metingen (afgesloten) | C15: =SUM(E15:P15) -> 0
A16: DNBxxxx | B16: BIC - Awareness
A17: Data classificatie
A18: DNB1775 | B18: BIC - Assesment en implementatie DNB applicaties (IDA) (afgesloten) | C18: =SUM(E18:P18) -> 0
A19: DNB1776 | B19: BIC - Assessment en implementatie Dataclassificatie DNB Documenten (IDD) (afgesloten) | C19: =SUM(E19:P19) -> 0
A20: DNB1777 | B20: BIC - Renovatie Data Classificatie schema DNB (ReDaC) (afgesloten) | C20: =SUM(E20:P20) -> 0
A21: IB Policies en procedures
A22: DNB1778 | B22: BIC - Renovatie Informatie Beveiligings Policies&procedures (RIBPP) (afgesloten) | C22: =SUM(E22:P22) -> 0
A23: DNB2277 | B23: BIC - Governance Informatie Beveiliging (GIB) | C23: =SUM(E23:P23) -> 0
A24: DNB1781 | B24: BIC - CLM-IB | C24: =SUM(E24:P24) -> 16 | P24: 16
A25: Identity and Access Management
A26: DNB1779 | B26: BIC - Key management (KEMA) (afgesloten) | C26: =SUM(E26:P26) -> 0
A27: DNB1780 | B27: BIC - User Access Control (USACO) | C27: =SUM(E27:P27) -> 147 | P27: 147
A28: DNB2373 | B28: BIC - Instroom Doorstroom Uitstroom | C28: =SUM(E28:P28) -> 0
A29: Programmamanagement
A30: DNB1595 | B30: Programmamanagement | C30: =SUM(E30:P30) -> 97 | P30: 97
A31: Security Monitoring
A32: DNB1727 | B32: BIC - Implementatie CDC (afgesloten) | C32: =SUM(E32:P32) -> 0
A33: DNB1453 | B33: SIEM selectie en implementatie (afgesloten) | C33: =SUM(E33:P33) -> 0
B34: Totaal | C34: =SUM(C8:C33) -> 260 | F34: =SUM(F8:F33) -> 0 | G34: =SUM(G8:G33) -> 0 | H34: =SUM(H8:H33) -> 0 | I34: =SUM(I8:I33) -> 0 | J34: =SUM(J8:J33) -> 0 | K34: =SUM(K8:K33) -> 0 | L34: =SUM(L8:L33) -> 0 | M34: =SUM(M8:M33) -> 0 | ... P34: =SUM(P8:P33) -> 260
A36: Burnrate ICT uren (Actuals) | E36: Actuals
A37: =A7 -> Project | B37: =B7 -> Omschrijving | C37: Actuals | E37: Jan | F37: Feb | G37: Mrt | H37: Apr | I37: Mei | J37: Jun | K37: Jul | L37: Aug | M37: Sep | N37: Okt | O37: Nov | P37: Dec
A38: Cultuur Ethiek & Gedrag
A39: DNB1769 | B39: BIC - Bewustwording nieuwe medewerkers en inhuurkrachten (afgesloten) | C39: =SUM(E39:P39) -> 0
A40: DNB1770 | B40: BIC - E-Learning (afgesloten) | C40: =SUM(E40:P40) -> 0
A41: DNB1771 | B41: BIC - Informeren en communiceren (afgesloten) | C41: =SUM(E41:P41) -> 0
A42: DNB1772 | B42: BIC - Ontwikkelmodel voor managers (omgang met vertrouwelijke informatie) (afgesloten) | C42: =SUM(E42:P42) -> 0
A43: DNB1773 | B43: BIC - Training van de directie en divisiedirecteuren (afgesloten) | C43: =SUM(E43:P43) -> 0
A44: DNB1774 | B44: BIC - Training voor managers (afgesloten) | C44: =SUM(E44:P44) -> 0
A45: DNB1812 | B45: CEG metingen (afgesloten) | C45: =SUM(E45:P45) -> 0
A47: Data classificatie
A48: DNB1775 | B48: BIC - Assesment en implementatie DNB applicaties (IDA) (afgesloten) | C48: =SUM(E48:P48) -> 21 | E48: 11 | F48: 10
A49: DNB1776 | B49: BIC - Assessment en implementatie Dataclassificatie DNB Documenten (IDD) (afgesloten) | C49: =SUM(E49:P49) -> 113 | E49: 16 | F49: 9 | G49: 14 | H49: 32 | I49: 18 | J49: 6 | K49: 12 | L49: 6
A50: DNB1777 | B50: BIC - Renovatie Data Classificatie schema DNB (ReDaC) (afgesloten) | C50: =SUM(E50:P50) -> 0
A51: IB Policies en procedures
A52: DNB1778 | B52: BIC - Renovatie Informatie Beveiligings Policies&procedures (RIBPP) (afgesloten) | C52: =SUM(E52:P52) -> 0
A53: DNB2277 | B53: BIC - Governance Informatie Beveiliging (GIB) | C53: =SUM(E53:P53) -> 0 | E53: 0
A54: DNB1781 | B54: BIC - CLM-IB | C54: =SUM(E54:P54) -> 26 | E54: 0 | L54: 12 | M54: 13 | N54: 1
A55: Identity and Access Management
A56: DNB1779 | B56: BIC - Key management (KEMA) (afgesloten) | C56: =SUM(E56:P56) -> 0 | E56: 0
A57: DNB1780 | B57: BIC - User Access Control (USACO) | C57: =SUM(E57:P57) -> 855 | E57: 83 | F57: 102 | G57: 19 | H57: 13 | I57: 46 | J57: 70 | K57: 82 | L57: 108 | M57: 64 | N57: 140 | O57: 128
A58: DNB2373 | B58: BIC - Instroom Doorstroom Uitstroom | C58: =SUM(E58:P58) -> 0
A59: Programmamanagement
A60: DNB1595 | B60: Programmamanagement | C60: =SUM(E60:P60) -> 1332 | E60: 70 | F60: 87 | G60: 86 | H60: 102 | I60: 114 | J60: 119 | K60: 137 | L60: 113 | M60: 158 | N60: 223 | O60: 123
A61: Security Monitoring
A62: DNB1727 | B62: BIC - Implementatie CDC (afgesloten) | C62: =SUM(E62:P62) -> 3 | E62: 3
A63: DNB1453 | B63: SIEM selectie en implementatie (afgesloten) | C63: =SUM(E63:P63) -> 0
B64: Totaal | C64: =SUM(C38:C63) -> 2350 | E64: =SUM(E38:E63) -> 183 | F64: =SUM(F38:F63) -> 208 | G64: =SUM(G38:G63) -> 119 | H64: =SUM(H38:H63) -> 147 | I64: =SUM(I38:I63) -> 178 | J64: =SUM(J38:J63) -> 195 | K64: =SUM(K38:K63) -> 231 | L64: =SUM(L38:L63) -> 239 | ... P64: =SUM(P38:P63) -> 0
C66: Total Usage | D66: 0 | E66: =E64+E34 -> 183 | F66: =E66+F64+F34 -> 391 | G66: =F66+G64+G34 -> 510 | H66: =G66+H64+H34 -> 657 | I66: =H66+I64+I34 -> 835 | J66: =I66+J64+J34 -> 1030 | K66: =J66+K64+K34 -> 1261 | L66: =K66+L64+L34 -> 1500 | M66: =L66+M64+M34 -> 1735 | ... P66: =O66+P64+P34 -> 2610
C67: Actuals | D67: 0 | E67: =E64 -> 183 | F67: =E67+F64 -> 391 | G67: =F67+G64 -> 510 | H67: =H64+G67 -> 657 | I67: =I64+H67 -> 835 | J67: =J64+I67 -> 1030 | K67: =K64+J67 -> 1261 | L67: =L64+K67 -> 1500 | M67: =M64+L67 -> 1735 | N67: =N64+M67 -> 2099 | O67: =O64+N67 -> 2350
C68: ETC | O68: 2350 | P68: =O68+P34 -> 2610
C69: Budget | E69: =E4 -> 3900 | F69: =F4 -> 3900 | G69: =G4 -> 3900 | H69: =H4 -> 3900 | I69: =I4 -> 3900 | J69: =J4 -> 3900 | K69: =K4 -> 3900 | L69: =L4 -> 3900 | ... P69: =P4 -> 3900 | Q69: 3900

Sheet Burnrate Business
A2: 2017 | E2: Budget
E3: Jan | F3: Feb | G3: Mrt | H3: Apr | I3: Mei | J3: Jun | K3: Jul | L3: Aug | M3: Sep | N3: Okt | O3: Nov | P3: Dec
E4: 3900 | F4: 3900 | G4: 3900 | H4: 3900 | I4: 3900 | J4: 3900 | K4: 3900 | L4: 3900 | M4: 3900 | N4: 3900 | O4: 3900 | P4: 3900
A6: Burnrate ICT uren (ETC) | E6: ETC
A7: Project | B7: Omschrijving | C7: ETC | E7: Jan | F7: Feb | G7: Mrt | H7: Apr | I7: Mei | J7: Jun | K7: Jul | L7: Aug | M7: Sep | N7: Okt | O7: Nov | P7: Dec
A8: Cultuur Ethiek & Gedrag
A9: DNB1769 | B9: BIC - Bewustwording nieuwe medewerkers en inhuurkrachten (afgesloten) | C9: =SUM(E9:P9) -> 0
A10: DNB1770 | B10: BIC - E-Learning (afgesloten) | C10: =SUM(E10:P10) -> 0
A11: DNB1771 | B11: BIC - Informeren en communiceren (afgesloten) | C11: =SUM(E11:P11) -> 0
A12: DNB1772 | B12: BIC - Ontwikkelmodel voor managers (omgang met vertrouwelijke informatie) (afgesloten) | C12: =SUM(E12:P12) -> 0
A13: DNB1773 | B13: BIC - Training van de directie en divisiedirecteuren (afgesloten) | C13: =SUM(E13:P13) -> 0
A14: DNB1774 | B14: BIC - Training voor managers (afgesloten) | C14: =SUM(E14:P14) -> 0
A15: DNB1812 | B15: CEG metingen (afgesloten) | C15: =SUM(E15:P15) -> 0
A16: DNBxxxx | B16: BIC - Awareness | C16: =SUM(E16:P16) -> 120 | P16: 120
A17: Data classificatie
A18: DNB1775 | B18: BIC - Assesment en implementatie DNB applicaties (IDA) (afgesloten) | C18: =SUM(E18:P18) -> 0
A19: DNB1776 | B19: BIC - Assessment en implementatie Dataclassificatie DNB Documenten (IDD) (afgesloten) | C19: =SUM(E19:P19) -> 0
A20: DNB1777 | B20: BIC - Renovatie Data Classificatie schema DNB (ReDaC) (afgesloten) | C20: =SUM(E20:P20) -> 0
A21: IB Policies en procedures
A22: DNB1778 | B22: BIC - Renovatie Informatie Beveiligings Policies&procedures (RIBPP) (afgesloten) | C22: =SUM(E22:P22) -> 0
A23: DNB2277 | B23: BIC - Governance Informatie Beveiliging (GIB) | C23: =SUM(E23:P23) -> 645 | P23: 645
A24: DNB1781 | B24: BIC - CLM-IB | C24: =SUM(E24:P24) -> 168 | P24: 168
A25: Identity and Access Management
A26: DNB1779 | B26: BIC - Key management (KEMA) (afgerond) | C26: =SUM(E26:P26) -> 0
A27: DNB1780 | B27: BIC - User Access Control (USACO) | C27: =SUM(E27:P27) -> 505 | P27: 505
A28: DNB2373 | B28: BIC - Instroom Doorstroom Uitstroom | C28: =SUM(E28:P28) -> 72 | P28: 72
A29: Programmamanagement
A30: DNB1595 | B30: Programmamanagement | C30: =SUM(E30:P30) -> 284 | P30: 284
A31: Security Monitoring
A32: DNB1727 | B32: BIC - Implementatie CDC (afgesloten) | C32: =SUM(E32:P32) -> 0
A33: DNB1453 | B33: SIEM selectie en implementatie (afgesloten) | C33: =SUM(E33:P33) -> 0
B34: Totaal | C34: =SUM(C8:C33) -> 1794 | F34: =SUM(F8:F33) -> 0 | G34: =SUM(G8:G33) -> 0 | H34: =SUM(H8:H33) -> 0 | I34: =SUM(I8:I33) -> 0 | J34: =SUM(J8:J33) -> 0 | K34: =SUM(K8:K33) -> 0 | L34: =SUM(L8:L33) -> 0 | M34: =SUM(M8:M33) -> 0 | ... P34: =SUM(P8:P33) -> 1794
A36: Burnrate ICT uren (Actuals) | E36: Actuals
A37: =A7 -> Project | B37: =B7 -> Omschrijving | C37: Actuals | E37: Jan | F37: Feb | G37: Mrt | H37: Apr | I37: Mei | J37: Jun | K37: Jul | L37: Aug | M37: Sep | N37: Okt | O37: Nov | P37: Dec
A38: Cultuur Ethiek & Gedrag
A39: DNB1769 | B39: BIC - Bewustwording nieuwe medewerkers en inhuurkrachten (afgesloten) | C39: =SUM(E39:P39) -> 0
A40: DNB1770 | B40: BIC - E-Learning (afgesloten) | C40: =SUM(E40:P40) -> 0
A41: DNB1771 | B41: BIC - Informeren en communiceren (afgesloten) | C41: =SUM(E41:P41) -> 0
A42: DNB1772 | B42: BIC - Ontwikkelmodel voor managers (omgang met vertrouwelijke informatie) (afgesloten) | C42: =SUM(E42:P42) -> 0
A43: DNB1773 | B43: BIC - Training van de directie en divisiedirecteuren (afgesloten) | C43: =SUM(E43:P43) -> 0
A44: DNB1774 | B44: BIC - Training voor managers (afgesloten) | C44: =SUM(E44:P44) -> 0
A45: DNB1812 | B45: CEG metingen (afgesloten) | C45: =SUM(E45:P45) -> 0
A47: Data classificatie
A48: DNB1775 | B48: BIC - Assesment en implementatie DNB applicaties (IDA) (afgesloten) | C48: =SUM(E48:P48) -> 156 | E48: 113 | F48: 43
A49: DNB1776 | B49: BIC - Assessment en implementatie Dataclassificatie DNB Documenten (IDD) (afgesloten) | C49: =SUM(E49:P49) -> 533 | E49: 83 | F49: 39 | G49: 201 | H49: 67 | I49: 90 | J49: 52 | L49: 1
A50: DNB1777 | B50: BIC - Renovatie Data Classificatie schema DNB (ReDaC) (afgesloten) | C50: =SUM(E50:P50) -> 0
A51: IB Policies en procedures
A52: DNB1778 | B52: BIC - Renovatie Informatie Beveiligings Policies&procedures (RIBPP) (afgesloten) | C52: =SUM(E52:P52) -> 0
A53: DNB2277 | B53: BIC - Governance Informatie Beveiliging (GIB) | C53: =SUM(E53:P53) -> 1436 | E53: 82 | F53: 121 | G53: 169 | H53: 122 | I53: 134 | J53: 123 | K53: 144 | L53: 182 | M53: 111 | N53: 162 | O53: 86
A54: DNB1781 | B54: BIC - CLM-IB | C54: =SUM(E54:P54) -> 771 | E54: 16 | F54: 12 | G54: 44 | H54: 44 | I54: 40 | J54: 36 | K54: 36 | L54: 132 | M54: 152 | N54: 112 | O54: 147
A55: Identity and Access Management
A56: DNB1779 | B56: BIC - Key management (KEMA) (afgesloten) | C56: =SUM(E56:P56) -> 0 | E56: 0
A57: DNB1780 | B57: BIC - User Access Control (USACO) | C57: =SUM(E57:P57) -> 3576 | E57: 350 | F57: 316 | G57: 390 | H57: 270 | I57: 302 | J57: 262 | K57: 330 | L57: 357 | M57: 296 | N57: 454 | O57: 249
A58: DNB2373 | B58: BIC - Instroom Doorstroom Uitstroom | C58: =SUM(E58:P58) -> 313 | E58: 16 | F58: 13 | G58: 18 | H58: 13 | I58: 3 | J58: 36 | K58: 44 | L58: 18 | M58: 40 | N58: 69 | O58: 43
A59: Programmamanagement
A60: DNB1595 | B60: Programmamanagement | C60: =SUM(E60:P60) -> 2953 | E60: 251 | F60: 300 | G60: 337 | H60: 274 | I60: 382 | J60: 404 | K60: 217 | L60: 381 | M60: 238 | N60: 148 | O60: 21
A61: Security Monitoring
A62: DNB1727 | B62: BIC - Implementatie CDC (afgesloten) | C62: =SUM(E62:P62) -> 0
A63: DNB1453 | B63: SIEM selectie en implementatie (afgesloten) | C63: =SUM(E63:P63) -> 0
B64: Totaal | C64: =SUM(C38:C63) -> 9738 | E64: =SUM(E38:E63) -> 911 | F64: =SUM(F38:F63) -> 844 | G64: =SUM(G38:G63) -> 1159 | H64: =SUM(H38:H63) -> 790 | I64: =SUM(I38:I63) -> 951 | J64: =SUM(J38:J63) -> 913 | K64: =SUM(K38:K63) -> 771 | L64: =SUM(L38:L63) -> 1071 | ... P64: =SUM(P38:P63) -> 0
C66: Total Usage | D66: 0 | E66: =E64+E34 -> 911 | F66: =E66+F64+F34 -> 1755 | G66: =F66+G64+G34 -> 2914 | H66: =G66+H64+H34 -> 3704 | I66: =H66+I64+I34 -> 4655 | J66: =I66+J64+J34 -> 5568 | K66: =J66+K64+K34 -> 6339 | L66: =K66+L64+L34 -> 7410 | M66: =L66+M64+M34 -> 8247 | ... P66: =O66+P64+P34 -> 11532
C67: Actuals | D67: 0 | E67: =E64 -> 911 | F67: =E67+F64 -> 1755 | G67: =F67+G64 -> 2914 | H67: =H64+G67 -> 3704 | I67: =I64+H67 -> 4655 | J67: =J64+I67 -> 5568 | K67: =K64+J67 -> 6339 | L67: =L64+K67 -> 7410 | M67: =M64+L67 -> 8247 | N67: =N64+M67 -> 9192 | O67: =O64+N67 -> 9738
C68: ETC | O68: 9717 | P68: =O68+P34 -> 11511
C69: Budget | E69: 19929 | F69: 19929 | G69: 19929 | H69: 19929 | I69: 19929 | J69: 19929 | K69: 19929 | L69: 19929 | M69: 19929 | N69: 19929 | O69: 19929 | P69: 19929 | Q69: 19929

Sheet Burnrate template
A1: Mark Hartogsveld
A2: ICT uren | I2: ETC 2017
A3: Project | B3: Omschrijving | C3: Actuals | D3: ETC | E3: EAC | F3: Budget | G3: Delta | I3: Jan | J3: Feb | K3: Mrt | L3: Apr | M3: Mei | N3: Jun | O3: Jul | P3: Aug | Q3: Sep | R3: Okt | S3: Nov | T3: Dec
A4: DNB1776 | B4: BIC - Assessment en implementatie Dataclassificatie DNB Documenten (IDD) | C4: ='Sluitend budget 13-03-17'!C86 -> 113 | D4: ='Sluitend budget 13-03-17'!D86 -> 0 | E4: =C4+D4 -> 113 | F4: ='Sluitend budget 13-03-17'!F86 -> 204 | G4: =F4-E4 -> 91
A5: Business uren | I5: ETC 2017
A6: Project | B6: Omschrijving | C6: Actuals | D6: ETC | E6: EAC | F6: Budget | G6: Delta | I6: Jan | J6: Feb | K6: Mrt | L6: Apr | M6: Mei | N6: Jun | O6: Jul | P6: Aug | Q6: Sep | R6: Okt | S6: Nov | T6: Dec
A7: DNB1776 | B7: BIC - Assessment en implementatie Dataclassificatie DNB Documenten (IDD) | C7: ='Sluitend budget 13-03-17'!Y86 -> 533 | D7: ='Sluitend budget 13-03-17'!Z86 -> 0 | E7: =C7+D7 -> 533 | F7: ='Sluitend budget 13-03-17'!AB86 -> 1084 | G7: =F7-E7 -> 551
A9: Menno Boerema
A10: ICT uren | I10: ETC 2017
A11: Project | B11: Omschrijving | C11: Actuals | D11: ETC | E11: EAC | F11: Budget | G11: Delta | I11: Jan | J11: Feb | K11: Mrt | L11: Apr | M11: Mei | N11: Jun | O11: Jul | P11: Aug | Q11: Sep | R11: Okt | S11: Nov | T11: Dec
A12: DNB1779 | B12: BIC - Key management (KEMA) | C12: ='Sluitend budget 13-03-17'!C90 -> 0 | D12: ='Sluitend budget 13-03-17'!D90 -> 0 | E12: =C12+D12 -> 0 | F12: ='Sluitend budget 13-03-17'!F90 -> 0 | G12: =F12-E12 -> 0
A13: DNB1780 | B13: BIC - User Access Control (USACO) | C13: ='Sluitend budget 13-03-17'!C97 -> 1219 | D13: ='Sluitend budget 13-03-17'!D97 -> 0 | E13: =C13+D13 -> 1219 | F13: ='Sluitend budget 13-03-17'!F97 -> 1336 | G13: =F13-E13 -> 117
A14: DNB1781 | B14: BIC - Supplier monitoring (SuMo) | C14: ='Sluitend budget 13-03-17'!C95 -> 52 | D14: ='Sluitend budget 13-03-17'!D95 -> 0 | E14: =C14+D14 -> 52 | F14: ='Sluitend budget 13-03-17'!F95 -> 0 | G14: =F14-E14 -> -52
A15: Business uren | I15: ETC 2017
A16: Project | B16: Omschrijving | C16: Actuals | D16: ETC | E16: EAC | F16: Budget | G16: Delta | I16: Jan | J16: Feb | K16: Mrt | L16: Apr | M16: Mei | N16: Jun | O16: Jul | P16: Aug | Q16: Sep | R16: Okt | S16: Nov | T16: Dec
A17: DNB1779 | B17: BIC - Key management (KEMA) | C17: ='Sluitend budget 13-03-17'!Y90 -> 0 | D17: ='Sluitend budget 13-03-17'!Z90 -> 0 | E17: =C17+D17 -> 0 | F17: ='Sluitend budget 13-03-17'!AB90 -> 0 | G17: =F17-E17 -> 0
A18: DNB1780 | B18: BIC - User Access Control (USACO) | C18: ='Sluitend budget 13-03-17'!Y97 -> 4251 | D18: ='Sluitend budget 13-03-17'!Z97 -> 0 | E18: =C18+D18 -> 4251 | F18: ='Sluitend budget 13-03-17'!AB97 -> 6472 | G18: =F18-E18 -> 2221
A19: DNB1781 | B19: BIC - Supplier monitoring (SuMo) | C19: ='Sluitend budget 13-03-17'!Y95 -> 1139 | D19: ='Sluitend budget 13-03-17'!Z95 -> 0 | E19: =C19+D19 -> 1139 | F19: ='Sluitend budget 13-03-17'!AB95 -> 576 | G19: =F19-E19 -> -563
A21: Erik Werson
A22: ICT uren | I22: ETC 2017
A23: Project | B23: Omschrijving | C23: Actuals | D23: ETC | E23: EAC | F23: Budget | G23: Delta | I23: Jan | J23: Feb | K23: Mrt | L23: Apr | M23: Mei | N23: Jun | O23: Jul | P23: Aug | Q23: Sep | R23: Okt | S23: Nov | T23: Dec
A24: DNB2277 | B24: BIC - Governance Informatie Beveiliging | C24: ='Sluitend budget 13-03-17'!C94 -> 0 | D24: ='Sluitend budget 13-03-17'!D94 -> 0 | E24: =C24+D24 -> 0 | F24: ='Sluitend budget 13-03-17'!F94 -> 92 | G24: =F24-E24 -> 92
A25: Business uren | I25: ETC 2017
A26: Project | B26: Omschrijving | C26: Actuals | D26: ETC | E26: EAC | F26: Budget | G26: Delta | I26: Jan | J26: Feb | K26: Mrt | L26: Apr | M26: Mei | N26: Jun | O26: Jul | P26: Aug | Q26: Sep | R26: Okt | S26: Nov | T26: Dec
A27: DNB2277 | B27: BIC - Governance Informatie Beveiliging | C27: ='Sluitend budget 13-03-17'!Y94 -> 1555 | D27: ='Sluitend budget 13-03-17'!Z94 -> 0 | E27: =C27+D27 -> 1555 | F27: ='Sluitend budget 13-03-17'!AB94 -> 3371 | G27: =F27-E27 -> 1816
A29: Leo Scholtes
A30: ICT uren | I30: ETC 2017
A31: Project | B31: Omschrijving | C31: Actuals | D31: ETC | E31: EAC | F31: Budget | G31: Delta | I31: Jan | J31: Feb | K31: Mrt | L31: Apr | M31: Mei | N31: Jun | O31: Jul | P31: Aug | Q31: Sep | R31: Okt | S31: Nov | T31: Dec
A32: DNB2373 | B32: BIC - Instroom Doorstroom Uitstroom | C32: ='Sluitend budget 13-03-17'!C98 -> 0 | D32: ='Sluitend budget 13-03-17'!D98 -> 0 | E32: =C32+D32 -> 0 | F32: ='Sluitend budget 13-03-17'!F98 -> 0 | G32: =F32-E32 -> 0
A33: Business uren | I33: ETC 2017
A34: Project | B34: Omschrijving | C34: Actuals | D34: ETC | E34: EAC | F34: Budget | G34: Delta | I34: Jan | J34: Feb | K34: Mrt | L34: Apr | M34: Mei | N34: Jun | O34: Jul | P34: Aug | Q34: Sep | R34: Okt | S34: Nov | T34: Dec
A35: DNB2373 | B35: BIC - Instroom Doorstroom Uitstroom | C35: ='Sluitend budget 13-03-17'!Y98 -> 421 | D35: ='Sluitend budget 13-03-17'!Z98 -> 0 | E35: =C35+D35 -> 421 | F35: ='Sluitend budget 13-03-17'!AB98 -> 800 | G35: =F35-E35 -> 379
A37: Jeroen Bouma
A38: ICT uren | I38: ETC 2017
A39: Project | B39: Omschrijving | C39: Actuals | D39: ETC | E39: EAC | F39: Budget | G39: Delta | I39: Jan | J39: Feb | K39: Mrt | L39: Apr | M39: Mei | N39: Jun | O39: Jul | P39: Aug | Q39: Sep | R39: Okt | S39: Nov | T39: Dec
C40: ='Sluitend budget 13-03-17'!C93 -> 0 | D40: ='Sluitend budget 13-03-17'!D93 -> 0 | E40: =C40+D40 -> 0 | F40: ='Sluitend budget 13-03-17'!F93 -> 320 | G40: =F40-E40 -> 320
A41: Business uren | I41: ETC 2017
A42: Project | B42: Omschrijving | C42: Actuals | D42: ETC | E42: EAC | F42: Budget | G42: Delta | I42: Jan | J42: Feb | K42: Mrt | L42: Apr | M42: Mei | N42: Jun | O42: Jul | P42: Aug | Q42: Sep | R42: Okt | S42: Nov | T42: Dec
C43: ='Sluitend budget 13-03-17'!Y93 -> 0 | D43: ='Sluitend budget 13-03-17'!Z93 -> 120 | E43: =C43+D43 -> 120 | F43: ='Sluitend budget 13-03-17'!AB98 -> 800 | G43: =F43-E43 -> 680
C57: Alleen kolom C, D en E kopieren naar bestand "burnrate (input projectleiders)"

Sheet Jaarbudgetten (PgMP)
A1: 2015
A2: DNB1638 | B2: Programma Best In Class Informatiebeveiliging | C2: 2015
C3: ICT (uren) | I3: RPM | K3: C&I | M3: ID | O3: Communicatie | Q3: Repro | S3: P&O | U3: Bvtr | W3: Overig | Y3: Business (uren) | AD3: Totaal (uren)
A4: Project | B4: Omschrijving | C4: Actuals | D4: ETC | E4: EAC | F4: Budget | G4: Delta | I4: Actuals | J4: ETC | K4: Actuals | L4: ETC | M4: Actuals | N4: ETC | O4: Actuals | P4: ETC | Q4: Actuals | R4: ETC | S4: Actuals | T4: ETC | U4: Actuals | V4: ETC | W4: Actuals | X4: ETC | Y4: Actuals | Z4: ETC | AA4: EAC | AB4: Budget | AC4: Delta | AD4: Actuals | AE4: ETC | AF4: EAC | AG4: Budget | AH4: Delta
A5: Cultuur Ethiek & Gedrag
A6: DNB1769 | B6: BIC - Bewustwording nieuwe medewerkers en inhuurkrachten | C6: 0 | D6: 0 | E6: =C6+D6 -> 0 | F6: 0 | G6: =F6-E6 -> 0 | Y6: =I6+K6+M6+O6+Q6+S6+U6+W6 -> 0 | Z6: =J6+L6+N6+P6+R6+T6+V6+X6 -> 0 | AA6: =Y6+Z6 -> 0 | AB6: =AG6-F6 -> 81 | AC6: =AB6-AA6 -> 81 | AD6: =C6+I6+K6+M6+O6+Q6+S6+U6+W6 -> 0 | AE6: =D6+J6+L6+N6+P6+R6+T6+V6+X6 -> 0 | AF6: =AD6+AE6 -> 0 | AG6: 81 | AH6: =AG6-AF6 -> 81
A7: DNB1770 | B7: BIC - E-Learning | C7: 0 | D7: 0 | E7: =C7+D7 -> 0 | F7: 0 | G7: =F7-E7 -> 0 | K7: 223 | Y7: =I7+K7+M7+O7+Q7+S7+U7+W7 -> 223 | Z7: =J7+L7+N7+P7+R7+T7+V7+X7 -> 0 | AA7: =Y7+Z7 -> 223 | AB7: =AG7-F7 -> 486 | AC7: =AB7-AA7 -> 263 | AD7: =C7+I7+K7+M7+O7+Q7+S7+U7+W7 -> 223 | AE7: =D7+J7+L7+N7+P7+R7+T7+V7+X7 -> 0 | AF7: =AD7+AE7 -> 223 | AG7: 486 | AH7: =AG7-AF7 -> 263
A8: DNB1771 | B8: BIC - Informeren en communiceren (project is komen te vervallen) | C8: 0 | D8: 0 | E8: =C8+D8 -> 0 | F8: 0 | G8: =F8-E8 -> 0 | J8: 0 | K8: 26 | L8: 0 | P8: 0 | R8: 0 | Y8: =I8+K8+M8+O8+Q8+S8+U8+W8 -> 26 | Z8: =J8+L8+N8+P8+R8+T8+V8+X8 -> 0 | AA8: =Y8+Z8 -> 26 | AB8: =AG8-F8 -> 26 | AC8: =AB8-AA8 -> 0 | AD8: =C8+I8+K8+M8+O8+Q8+S8+U8+W8 -> 26 | AE8: =D8+J8+L8+N8+P8+R8+T8+V8+X8 -> 0 | AF8: =AD8+AE8 -> 26 | AG8: 26 | AH8: =AG8-AF8 -> 0
A9: DNB1772 | B9: BIC - Ontwikkelmodel voor managers (omgang met vertrouwelijke informatie) | C9: 0 | D9: 0 | E9: =C9+D9 -> 0 | F9: 0 | G9: =F9-E9 -> 0 | K9: 219 | Y9: =I9+K9+M9+O9+Q9+S9+U9+W9 -> 219 | Z9: =J9+L9+N9+P9+R9+T9+V9+X9 -> 0 | AA9: =Y9+Z9 -> 219 | AB9: =AG9-F9 -> 405 | AC9: =AB9-AA9 -> 186 | AD9: =C9+I9+K9+M9+O9+Q9+S9+U9+W9 -> 219 | AE9: =D9+J9+L9+N9+P9+R9+T9+V9+X9 -> 0 | AF9: =AD9+AE9 -> 219 | AG9: 405 | AH9: =AG9-AF9 -> 186
A10: DNB1773 | B10: BIC - Training van de directie en divisiedirecteuren | C10: 0 | D10: 0 | E10: =C10+D10 -> 0 | F10: 0 | G10: =F10-E10 -> 0 | Y10: =I10+K10+M10+O10+Q10+S10+U10+W10 -> 0 | Z10: =J10+L10+N10+P10+R10+T10+V10+X10 -> 0 | AA10: =Y10+Z10 -> 0 | AB10: =AG10-F10 -> 0 | AC10: =AB10-AA10 -> 0 | AD10: =C10+I10+K10+M10+O10+Q10+S10+U10+W10 -> 0 | AE10: =D10+J10+L10+N10+P10+R10+T10+V10+X10 -> 0 | AF10: =AD10+AE10 -> 0 | AG10: 0 | AH10: =AG10-AF10 -> 0
A11: DNB1774 | B11: BIC - Training voor managers | C11: 0 | D11: 0 | E11: =C11+D11 -> 0 | F11: 0 | G11: =F11-E11 -> 0 | K11: 96 | Y11: =I11+K11+M11+O11+Q11+S11+U11+W11 -> 96 | Z11: =J11+L11+N11+P11+R11+T11+V11+X11 -> 0 | AA11: =Y11+Z11 -> 96 | AB11: =AG11-F11 -> 162 | AC11: =AB11-AA11 -> 66 | AD11: =C11+I11+K11+M11+O11+Q11+S11+U11+W11 -> 96 | AE11: =D11+J11+L11+N11+P11+R11+T11+V11+X11 -> 0 | AF11: =AD11+AE11 -> 96 | AG11: 162 | AH11: =AG11-AF11 -> 66
A12: DNB1812 | B12: CEG metingen | C12: 0 | D12: 0 | E12: =C12+D12 -> 0 | F12: 0 | G12: =F12-E12 -> 0 | Y12: =I12+K12+M12+O12+Q12+S12+U12+W12 -> 0 | Z12: =J12+L12+N12+P12+R12+T12+V12+X12 -> 0 | AA12: =Y12+Z12 -> 0 | AB12: =AG12-F12 -> 100 | AC12: =AB12-AA12 -> 100 | AD12: =C12+I12+K12+M12+O12+Q12+S12+U12+W12 -> 0 | AE12: =D12+J12+L12+N12+P12+R12+T12+V12+X12 -> 0 | AF12: =AD12+AE12 -> 0 | AG12: 100 | AH12: =AG12-AF12 -> 100
A13: Data classificatie
A14: DNB1775 | B14: BIC - Assesment en implementatie DNB applicaties (IDA) | C14: 82 | D14: 0 | E14: =C14+D14 -> 82 | F14: 111 | G14: =F14-E14 -> 29 | Y14: =I14+K14+M14+O14+Q14+S14+U14+W14 -> 0 | Z14: =J14+L14+N14+P14+R14+T14+V14+X14 -> 0 | AA14: =Y14+Z14 -> 0 | AB14: =AG14-F14 -> 132 | AC14: =AB14-AA14 -> 132 | AD14: =C14+I14+K14+M14+O14+Q14+S14+U14+W14 -> 82 | AE14: =D14+J14+L14+N14+P14+R14+T14+V14+X14 -> 0 | AF14: =AD14+AE14 -> 82 | AG14: 243 | AH14: =AG14-AF14 -> 161
A15: DNB1776 | B15: BIC - Assessment en implementatie Dataclassificatie DNB Documenten (IDD) | C15: 81 | D15: 0 | E15: =C15+D15 -> 81 | F15: 81 | G15: =F15-E15 -> 0 | Y15: =I15+K15+M15+O15+Q15+S15+U15+W15 -> 0 | Z15: =J15+L15+N15+P15+R15+T15+V15+X15 -> 0 | AA15: =Y15+Z15 -> 0 | AB15: =AG15-F15 -> 365 | AC15: =AB15-AA15 -> 365 | AD15: =C15+I15+K15+M15+O15+Q15+S15+U15+W15 -> 81 | AE15: =D15+J15+L15+N15+P15+R15+T15+V15+X15 -> 0 | AF15: =AD15+AE15 -> 81 | AG15: 446 | AH15: =AG15-AF15 -> 365
A16: DNB1777 | B16: BIC - Renovatie Data Classificatie schema DNB (ReDaC) | C16: 37 | D16: 0 | E16: =C16+D16 -> 37 | F16: 41 | G16: =F16-E16 -> 4 | M16: 143 | Y16: =I16+K16+M16+O16+Q16+S16+U16+W16 -> 143 | Z16: =J16+L16+N16+P16+R16+T16+V16+X16 -> 0 | AA16: =Y16+Z16 -> 143 | AB16: =AG16-F16 -> 81 | AC16: =AB16-AA16 -> -62 | AD16: =C16+I16+K16+M16+O16+Q16+S16+U16+W16 -> 180 | AE16: =D16+J16+L16+N16+P16+R16+T16+V16+X16 -> 0 | AF16: =AD16+AE16 -> 180 | AG16: 122 | AH16: =AG16-AF16 -> -58
A17: IB Policies en procedures
A18: DNB1778 | B18: BIC - Renovatie Informatie Beveiligings Policies&procedures (RIBPP) | C18: 187 | D18: 0 | E18: =C18+D18 -> 187 | F18: 200 | G18: =F18-E18 -> 13 | I18: 547 | W18: 20 | Y18: =I18+K18+M18+O18+Q18+S18+U18+W18 -> 567 | Z18: =J18+L18+N18+P18+R18+T18+V18+X18 -> 0 | AA18: =Y18+Z18 -> 567 | AB18: =AG18-F18 -> 567 | AC18: =AB18-AA18 -> 0 | AD18: =C18+I18+K18+M18+O18+Q18+S18+U18+W18 -> 754 | AE18: =D18+J18+L18+N18+P18+R18+T18+V18+X18 -> 0 | AF18: =AD18+AE18 -> 754 | AG18: 767 | AH18: =AG18-AF18 -> 13
A19: DNB2277 | B19: BIC - Governance Informatie Beveiliging
A20: Identity and Access Management
A21: DNB1779 | B21: BIC - Key management (KEMA) | D21: 0 | E21: =C21+D21 -> 0 | F21: 0 | G21: =F21-E21 -> 0 | Y21: =I21+K21+M21+O21+Q21+S21+U21+W21 -> 0 | Z21: =J21+L21+N21+P21+R21+T21+V21+X21 -> 0 | AA21: =Y21+Z21 -> 0 | AB21: =AG21-F21 -> 324 | AC21: =AB21-AA21 -> 324 | AD21: =C21+I21+K21+M21+O21+Q21+S21+U21+W21 -> 0 | AE21: =D21+J21+L21+N21+P21+R21+T21+V21+X21 -> 0 | AF21: =AD21+AE21 -> 0 | AG21: 324 | AH21: =AG21-AF21 -> 324
A22: DNB1780 | B22: BIC - User Access Control (USACO) | C22: 352 | D22: 0 | E22: =C22+D22 -> 352 | F22: 352 | G22: =F22-E22 -> 0 | Y22: =I22+K22+M22+O22+Q22+S22+U22+W22 -> 0 | Z22: =J22+L22+N22+P22+R22+T22+V22+X22 -> 0 | AA22: =Y22+Z22 -> 0 | AB22: =AG22-F22 -> 134 | AC22: =AB22-AA22 -> 134 | AD22: =C22+I22+K22+M22+O22+Q22+S22+U22+W22 -> 352 | AE22: =D22+J22+L22+N22+P22+R22+T22+V22+X22 -> 0 | AF22: =AD22+AE22 -> 352 | AG22: 486 | AH22: =AG22-AF22 -> 134
A23: Programmamanagement
A24: DNB1595 | B24: Programmamanagement | C24: =1880+756 -> 2636 | D24: 0 | E24: =C24+D24 -> 2636 | F24: 1600 | G24: =F24-E24 -> -1036 | I24: 328 | J24: 0 | Y24: =I24+K24+M24+O24+Q24+S24+U24+W24 -> 328 | Z24: =J24+L24+N24+P24+R24+T24+V24+X24 -> 0 | AA24: =Y24+Z24 -> 328 | AB24: =AG24-F24 -> 1084 | AC24: =AB24-AA24 -> 756 | AD24: =C24+I24+K24+M24+O24+Q24+S24+U24+W24 -> 2964 | AE24: =D24+J24+L24+N24+P24+R24+T24+V24+X24 -> 0 | AF24: =AD24+AE24 -> 2964 | AG24: =2400+363-79 -> 2684 | AH24: =AG24-AF24 -> -280
A25: Security Monitoring
A26: DNB1727 | B26: BIC - Implementatie CDC | C26: =2271-I26 -> 2041 | D26: 0 | E26: =C26+D26 -> 2041 | F26: 2215 | G26: =F26-E26 -> 174 | I26: 230 | Y26: =I26+K26+M26+O26+Q26+S26+U26+W26 -> 230 | Z26: =J26+L26+N26+P26+R26+T26+V26+X26 -> 0 | AA26: =Y26+Z26 -> 230 | AB26: =AG26-F26 -> 1190 | AC26: =AB26-AA26 -> 960 | AD26: =C26+I26+K26+M26+O26+Q26+S26+U26+W26 -> 2271 | AE26: =D26+J26+L26+N26+P26+R26+T26+V26+X26 -> 0 | AF26: =AD26+AE26 -> 2271 | AG26: 3405 | AH26: =AG26-AF26 -> 1134
A27: DNB1453 | B27: SIEM selectie en implementatie (afgesloten) | C27: 214 | D27: 0 | E27: =C27+D27 -> 214 | F27: 0 | G27: =F27-E27 -> -214 | Y27: =I27+K27+M27+O27+Q27+S27+U27+W27 -> 0 | Z27: =J27+L27+N27+P27+R27+T27+V27+X27 -> 0 | AA27: =Y27+Z27 -> 0 | AB27: =AG27-F27 -> 214 | AC27: =AB27-AA27 -> 214 | AD27: =C27+I27+K27+M27+O27+Q27+S27+U27+W27 -> 214 | AE27: =D27+J27+L27+N27+P27+R27+T27+V27+X27 -> 0 | AF27: =AD27+AE27 -> 214 | AG27: 214 | AH27: =AG27-AF27 -> 0
A28: DNB1781 | B28: BIC - Supplier monitoring (SuMo) | D28: 0 | E28: =C28+D28 -> 0 | F28: 0 | G28: =F28-E28 -> 0 | Y28: =I28+K28+M28+O28+Q28+S28+U28+W28 -> 0 | Z28: =J28+L28+N28+P28+R28+T28+V28+X28 -> 0 | AA28: =Y28+Z28 -> 0 | AB28: =AG28-F28 -> 649 | AC28: =AB28-AA28 -> 649 | AD28: =C28+I28+K28+M28+O28+Q28+S28+U28+W28 -> 0 | AE28: =D28+J28+L28+N28+P28+R28+T28+V28+X28 -> 0 | AF28: =AD28+AE28 -> 0 | AG28: 649 | AH28: =AG28-AF28 -> 649
B29: Totaal | C29: =SUM(C6:C28) -> 5630 | D29: =SUM(D6:D28) -> 0 | E29: =SUM(E6:E28) -> 5630 | F29: =SUM(F6:F28) -> 4600 | G29: =F29-E29 -> -1030 | I29: =SUM(I6:I28) -> 1105 | J29: =SUM(J6:J28) -> 0 | K29: =SUM(K6:K28) -> 564 | L29: =SUM(L6:L28) -> 0 | M29: =SUM(M6:M28) -> 143 | N29: =SUM(N6:N28) -> 0 | O29: =SUM(O6:O28) -> 0 | P29: =SUM(P6:P28) -> 0 | ... AB29: =SUM(AB6:AB28) -> 6000 | AC29: =AB29-AA29 -> 4168 | AD29: =SUM(AD6:AD28) -> 7462 | AE29: =SUM(AE6:AE28) -> 0 | AF29: =SUM(AF6:AF28) -> 7462 | AG29: =SUM(AG6:AG28) -> 10600 | AH29: =AG29-AF29 -> 3138
A32: 2016
A33: DNB1638 | B33: Programma Best In Class Informatiebeveiliging | C33: 2016
C34: ICT (uren) | I34: FBS | K34: C&I | M34: ID | O34: Communicatie | Q34: Repro | S34: P&O | U34: Bvtr | W34: Overig | Y34: Business (uren) | AD34: Totaal (uren)
A35: Project | B35: Omschrijving | C35: Actuals | D35: ETC | E35: EAC | F35: Budget | G35: Delta | I35: Actuals | J35: ETC | K35: Actuals | L35: ETC | M35: Actuals | N35: ETC | O35: Actuals | P35: ETC | Q35: Actuals | R35: ETC | S35: Actuals | T35: ETC | U35: Actuals | V35: ETC | W35: Actuals | X35: ETC | Y35: Actuals | Z35: ETC | AA35: EAC | AB35: Budget | AC35: Delta | AD35: Actuals | AE35: ETC | AF35: EAC | AG35: Budget | AH35: Delta
A36: Cultuur Ethiek & Gedrag
A37: DNB1769 | B37: BIC - Bewustwording nieuwe medewerkers en inhuurkrachten | E37: =C37+D37 -> 0 | F37: 0 | G37: =F37-E37 -> 0 | AA37: 0 | AB37: 0 | AC37: =AB37-AA37 -> 0 | AD37: =C37+I37+K37+M37+O37+Q37+S37+U37+W37 -> 0 | AE37: =D37+J37+L37+N37+P37+R37+T37+V37+X37 -> 0 | AF37: =AD37+AE37 -> 0 | AG37: 0 | AH37: =AG37-AF37 -> 0
A38: DNB1770 | B38: BIC - E-Learning | E38: 50 | F38: 50 | G38: =F38-E38 -> 0 | K38: 132 | L38: =120-K38 -> -12 | N38: 20 | P38: 20 | X38: 30 | AA38: 190 | AB38: 0 | AC38: =AB38-AA38 -> -190 | AD38: =C38+I38+K38+M38+O38+Q38+S38+U38+W38 -> 132 | AE38: =D38+J38+L38+N38+P38+R38+T38+V38+X38 -> 58 | AF38: =AD38+AE38 -> 190 | AG38: 0 | AH38: =AG38-AF38 -> -190
A39: DNB1771 | B39: BIC - Informeren en communiceren (project is komen te vervallen) | E39: =C39+D39 -> 0 | F39: 0 | G39: =F39-E39 -> 0 | AA39: 0 | AB39: 0 | AC39: =AB39-AA39 -> 0 | AD39: =C39+I39+K39+M39+O39+Q39+S39+U39+W39 -> 0 | AE39: =D39+J39+L39+N39+P39+R39+T39+V39+X39 -> 0 | AF39: =AD39+AE39 -> 0 | AG39: 0 | AH39: =AG39-AF39 -> 0
A40: DNB1772 | B40: BIC - Ontwikkelmodel voor managers (omgang met vertrouwelijke informatie) | E40: =C40+D40 -> 0 | F40: 0 | G40: =F40-E40 -> 0 | K40: 22 | L40: =66-K40 -> 44 | AA40: 66 | AB40: 0 | AC40: =AB40-AA40 -> -66 | AD40: =C40+I40+K40+M40+O40+Q40+S40+U40+W40 -> 22 | AE40: =D40+J40+L40+N40+P40+R40+T40+V40+X40 -> 44 | AF40: =AD40+AE40 -> 66 | AG40: 0 | AH40: =AG40-AF40 -> -66
A41: DNB1773 | B41: BIC - Training van de directie en divisiedirecteuren | E41: =C41+D41 -> 0 | F41: 0 | G41: =F41-E41 -> 0 | J41: 40 | L41: 132 | AA41: 172 | AB41: 161 | AC41: =AB41-AA41 -> -11 | AD41: =C41+I41+K41+M41+O41+Q41+S41+U41+W41 -> 0 | AE41: =D41+J41+L41+N41+P41+R41+T41+V41+X41 -> 172 | AF41: =AD41+AE41 -> 172 | AG41: 161 | AH41: =AG41-AF41 -> -11
A42: DNB1774 | B42: BIC - Training voor managers | E42: =C42+D42 -> 0 | F42: 0 | G42: =F42-E42 -> 0 | K42: 70 | L42: =80-K42 -> 10 | AA42: 78 | AB42: 80 | AC42: =AB42-AA42 -> 2 | AD42: =C42+I42+K42+M42+O42+Q42+S42+U42+W42 -> 70 | AE42: =D42+J42+L42+N42+P42+R42+T42+V42+X42 -> 10 | AF42: =AD42+AE42 -> 80 | AG42: 80 | AH42: =AG42-AF42 -> 0
A43: DNB1812 | B43: CEG metingen | E43: =C43+D43 -> 0 | F43: 0 | G43: =F43-E43 -> 0 | J43: 150 | AA43: 150 | AB43: 23 | AC43: =AB43-AA43 -> -127 | AD43: =C43+I43+K43+M43+O43+Q43+S43+U43+W43 -> 0 | AE43: =D43+J43+L43+N43+P43+R43+T43+V43+X43 -> 150 | AF43: =AD43+AE43 -> 150 | AG43: 150 | AH43: =AG43-AF43 -> 0
A44: Data classificatie
A45: DNB1775 | B45: BIC - Assesment en implementatie DNB applicaties (IDA) | E45: 1800 | F45: 644 | G45: =F45-E45 -> -1156 | J45: 25 | L45: 25 | M45: 37 | N45: =250-M45 -> 213 | P45: 50 | X45: 175 | AA45: 524 | AB45: 322 | AC45: =AB45-AA45 -> -202 | AD45: =C45+I45+K45+M45+O45+Q45+S45+U45+W45 -> 37 | AE45: =D45+J45+L45+N45+P45+R45+T45+V45+X45 -> 488 | AF45: =AD45+AE45 -> 525 | AG45: 966 | AH45: =AG45-AF45 -> 441
A46: DNB1776 | B46: BIC - Assessment en implementatie Dataclassificatie DNB Documenten (IDD) | E46: 800 | F46: 238 | G46: =F46-E46 -> -562 | J46: 25 | L46: 25 | M46: 49 | N46: =400-M46 -> 351 | P46: 150 | X46: 75 | AA46: 674 | AB46: 805 | AC46: =AB46-AA46 -> 131 | AD46: =C46+I46+K46+M46+O46+Q46+S46+U46+W46 -> 49 | AE46: =D46+J46+L46+N46+P46+R46+T46+V46+X46 -> 626 | AF46: =AD46+AE46 -> 675 | AG46: 966 | AH46: =AG46-AF46 -> 291
A47: DNB1777 | B47: BIC - Renovatie Data Classificatie schema DNB (ReDaC) | E47: =C47+D47 -> 0 | F47: 0 | G47: =F47-E47 -> 0 | M47: 23 | N47: 0 | AA47: 23 | AB47: 0 | AC47: =AB47-AA47 -> -23 | AD47: =C47+I47+K47+M47+O47+Q47+S47+U47+W47 -> 23 | AE47: =D47+J47+L47+N47+P47+R47+T47+V47+X47 -> 0 | AF47: =AD47+AE47 -> 23 | AG47: 0 | AH47: =AG47-AF47 -> -23
A48: IB Policies en procedures
A49: DNB1778 | B49: BIC - Renovatie Informatie Beveiligings Policies&procedures (RIBPP) | E49: 388 | F49: 200 | G49: =F49-E49 -> -188 | I49: 181 | J49: =1800-I49 -> 1619 | L49: 50 | N49: 50 | T49: 40 | V49: 40 | X49: 400 | AA49: 2380 | AB49: 1609 | AC49: =AB49-AA49 -> -771 | AD49: =C49+I49+K49+M49+O49+Q49+S49+U49+W49 -> 181 | AE49: =D49+J49+L49+N49+P49+R49+T49+V49+X49 -> 2199 | AF49: =AD49+AE49 -> 2380 | AG49: 1809 | AH49: =AG49-AF49 -> -571
A50: DNB2277 | B50: BIC - Governance Informatie Beveiliging
A51: Identity and Access Management
A52: DNB1779 | B52: BIC - Key management (KEMA) | E52: 243 | F52: 0 | G52: =F52-E52 -> -243 | X52: 81 | AA52: 81 | AB52: 0 | AC52: =AB52-AA52 -> -81 | AD52: =C52+I52+K52+M52+O52+Q52+S52+U52+W52 -> 0 | AE52: =D52+J52+L52+N52+P52+R52+T52+V52+X52 -> 81 | AF52: =AD52+AE52 -> 81 | AG52: 0 | AH52: =AG52-AF52 -> -81
A53: DNB1780 | B53: BIC - User Access Control (USACO) | E53: 1700 | F53: 2575 | G53: =F53-E53 -> 875 | X53: 1164 | AA53: 1164 | AB53: 0 | AC53: =AB53-AA53 -> -1164 | AD53: =C53+I53+K53+M53+O53+Q53+S53+U53+W53 -> 0 | AE53: =D53+J53+L53+N53+P53+R53+T53+V53+X53 -> 1164 | AF53: =AD53+AE53 -> 1164 | AG53: 2575 | AH53: =AG53-AF53 -> 1411
A54: Programmamanagement
A55: DNB1595 | B55: Programmamanagement | E55: 1000 | F55: 157 | G55: =F55-E55 -> -843 | I55: 668 | J55: =3200-I55 -> 2532 | AA55: 3200 | AB55: 3200 | AC55: =AB55-AA55 -> 0 | AD55: =C55+I55+K55+M55+O55+Q55+S55+U55+W55 -> 668 | AE55: =D55+J55+L55+N55+P55+R55+T55+V55+X55 -> 2532 | AF55: =AD55+AE55 -> 3200 | AG55: 3200 | AH55: =AG55-AF55 -> 0
A56: Security Monitoring
A57: DNB1727 | B57: BIC - Implementatie CDC | E57: 3149 | F57: 2893 | G57: =F57-E57 -> -256 | I57: 75 | J57: 0 | AA57: 75 | AB57: 0 | AC57: =AB57-AA57 -> -75 | AD57: =C57+I57+K57+M57+O57+Q57+S57+U57+W57 -> 75 | AE57: =D57+J57+L57+N57+P57+R57+T57+V57+X57 -> 0 | AF57: =AD57+AE57 -> 75 | AG57: =3058-165 -> 2893 | AH57: =AG57-AF57 -> 2818
A58: DNB1453 | B58: SIEM selectie en implementatie (afgesloten) | E58: 0 | F58: 0 | G58: =F58-E58 -> 0 | AA58: 0 | AB58: 0 | AC58: =AB58-AA58 -> 0 | AD58: =C58+I58+K58+M58+O58+Q58+S58+U58+W58 -> 0 | AE58: =D58+J58+L58+N58+P58+R58+T58+V58+X58 -> 0 | AF58: =AD58+AE58 -> 0 | AG58: 0 | AH58: =AG58-AF58 -> 0
A59: DNB1781 | B59: BIC - Supplier monitoring (SuMo) | E59: 243 | F59: 243 | G59: =F59-E59 -> 0 | X59: 406 | AA59: 406 | AB59: 0 | AC59: =AB59-AA59 -> -406 | AD59: =C59+I59+K59+M59+O59+Q59+S59+U59+W59 -> 0 | AE59: =D59+J59+L59+N59+P59+R59+T59+V59+X59 -> 406 | AF59: =AD59+AE59 -> 406 | AG59: 0 | AH59: =AG59-AF59 -> -406
B60: Totaal | C60: =SUM(C37:C59) -> 0 | D60: =SUM(D37:D59) -> 0 | E60: =SUM(E37:E59) -> 9373 | F60: =SUM(F37:F59) -> 7000 | G60: =F60-E60 -> -2373 | I60: =SUM(I37:I59) -> 924 | J60: =SUM(J37:J59) -> 4391 | K60: =SUM(K37:K59) -> 224 | L60: =SUM(L37:L59) -> 274 | M60: =SUM(M37:M59) -> 109 | N60: =SUM(N37:N59) -> 634 | O60: =SUM(O37:O59) -> 0 | P60: =SUM(P37:P59) -> 220 | ... AB60: =SUM(AB37:AB59) -> 6200 | AC60: =AB60-AA60 -> -2983 | AD60: =SUM(AD37:AD59) -> 1257 | AE60: =SUM(AE37:AE59) -> 7930 | AF60: =SUM(AF37:AF59) -> 9187 | AG60: =SUM(AG37:AG59) -> 12800 | AH60: =AG60-AF60 -> 3613
A63: 2017
A64: DNB1638 | B64: Programma Best In Class Informatiebeveiliging | C64: 2017
C65: ICT (uren) | I65: FBS | K65: C&I | M65: ID | O65: Communicatie | Q65: Repro | S65: P&O | U65: Bvtr | W65: Overig | Y65: Business (uren) | AD65: Totaal (uren)
A66: Project | B66: Omschrijving | C66: Actuals | D66: ETC | E66: EAC | F66: Budget | G66: Delta | I66: Actuals | J66: ETC | K66: Actuals | L66: ETC | M66: Actuals | N66: ETC | O66: Actuals | P66: ETC | Q66: Actuals | R66: ETC | S66: Actuals | T66: ETC | U66: Actuals | V66: ETC | W66: Actuals | X66: ETC | Y66: Actuals | Z66: ETC | AA66: EAC | AB66: Budget | AC66: Delta | AD66: Actuals | AE66: ETC | AF66: EAC | AG66: Budget | AH66: Delta
A67: Cultuur Ethiek & Gedrag
A68: DNB1769 | B68: BIC - Bewustwording nieuwe medewerkers en inhuurkrachten | E68: =C68+D68 -> 0 | F68: 0 | G68: =F68-E68 -> 0 | AA68: 0 | AB68: 0 | AC68: =AB68-AA68 -> 0 | AD68: =C68+I68+K68+M68+O68+Q68+S68+U68+W68 -> 0 | AE68: =D68+J68+L68+N68+P68+R68+T68+V68+X68 -> 0 | AF68: =AD68+AE68 -> 0 | AG68: 0 | AH68: =AG68-AF68 -> 0
A69: DNB1770 | B69: BIC - E-Learning | E69: =C69+D69 -> 0 | F69: 0 | G69: =F69-E69 -> 0 | AA69: 0 | AB69: 0 | AC69: =AB69-AA69 -> 0 | AD69: =C69+I69+K69+M69+O69+Q69+S69+U69+W69 -> 0 | AE69: =D69+J69+L69+N69+P69+R69+T69+V69+X69 -> 0 | AF69: =AD69+AE69 -> 0 | AG69: 0 | AH69: =AG69-AF69 -> 0
A70: DNB1771 | B70: BIC - Informeren en communiceren (project is komen te vervallen) | E70: =C70+D70 -> 0 | F70: 0 | G70: =F70-E70 -> 0 | AA70: 0 | AB70: 0 | AC70: =AB70-AA70 -> 0 | AD70: =C70+I70+K70+M70+O70+Q70+S70+U70+W70 -> 0 | AE70: =D70+J70+L70+N70+P70+R70+T70+V70+X70 -> 0 | AF70: =AD70+AE70 -> 0 | AG70: 0 | AH70: =AG70-AF70 -> 0
A71: DNB1772 | B71: BIC - Ontwikkelmodel voor managers (omgang met vertrouwelijke informatie) | E71: =C71+D71 -> 0 | F71: 0 | G71: =F71-E71 -> 0 | AA71: 0 | AB71: 0 | AC71: =AB71-AA71 -> 0 | AD71: =C71+I71+K71+M71+O71+Q71+S71+U71+W71 -> 0 | AE71: =D71+J71+L71+N71+P71+R71+T71+V71+X71 -> 0 | AF71: =AD71+AE71 -> 0 | AG71: 0 | AH71: =AG71-AF71 -> 0
A72: DNB1773 | B72: BIC - Training van de directie en divisiedirecteuren | E72: =C72+D72 -> 0 | F72: 0 | G72: =F72-E72 -> 0 | AA72: 0 | AB72: 0 | AC72: =AB72-AA72 -> 0 | AD72: =C72+I72+K72+M72+O72+Q72+S72+U72+W72 -> 0 | AE72: =D72+J72+L72+N72+P72+R72+T72+V72+X72 -> 0 | AF72: =AD72+AE72 -> 0 | AG72: 0 | AH72: =AG72-AF72 -> 0
A73: DNB1774 | B73: BIC - Training voor managers | E73: =C73+D73 -> 0 | F73: 0 | G73: =F73-E73 -> 0 | AA73: 0 | AB73: 0 | AC73: =AB73-AA73 -> 0 | AD73: =C73+I73+K73+M73+O73+Q73+S73+U73+W73 -> 0 | AE73: =D73+J73+L73+N73+P73+R73+T73+V73+X73 -> 0 | AF73: =AD73+AE73 -> 0 | AG73: 0 | AH73: =AG73-AF73 -> 0
A74: DNB1812 | B74: CEG metingen | E74: =C74+D74 -> 0 | F74: 0 | G74: =F74-E74 -> 0 | AA74: 0 | AB74: 0 | AC74: =AB74-AA74 -> 0 | AD74: =C74+I74+K74+M74+O74+Q74+S74+U74+W74 -> 0 | AE74: =D74+J74+L74+N74+P74+R74+T74+V74+X74 -> 0 | AF74: =AD74+AE74 -> 0 | AG74: 0 | AH74: =AG74-AF74 -> 0
A75: Data classificatie
A76: DNB1775 | B76: BIC - Assesment en implementatie DNB applicaties (IDA) | E76: 1200 | F76: 0 | G76: =F76-E76 -> -1200 | J76: 25 | L76: 25 | N76: 200 | P76: 50 | X76: 25 | AA76: 325 | AB76: 0 | AC76: =AB76-AA76 -> -325 | AD76: =C76+I76+K76+M76+O76+Q76+S76+U76+W76 -> 0 | AE76: =D76+J76+L76+N76+P76+R76+T76+V76+X76 -> 325 | AF76: =AD76+AE76 -> 325 | AG76: 0 | AH76: =AG76-AF76 -> -325
A77: DNB1776 | B77: BIC - Assessment en implementatie Dataclassificatie DNB Documenten (IDD) | E77: 500 | F77: 0 | G77: =F77-E77 -> -500 | J77: 25 | L77: 25 | N77: 200 | P77: 50 | X77: 25 | AA77: 325 | AB77: 0 | AC77: =AB77-AA77 -> -325 | AD77: =C77+I77+K77+M77+O77+Q77+S77+U77+W77 -> 0 | AE77: =D77+J77+L77+N77+P77+R77+T77+V77+X77 -> 325 | AF77: =AD77+AE77 -> 325 | AG77: 0 | AH77: =AG77-AF77 -> -325
A78: DNB1777 | B78: BIC - Renovatie Data Classificatie schema DNB (ReDaC) | E78: =C78+D78 -> 0 | F78: 0 | G78: =F78-E78 -> 0 | AA78: 0 | AB78: 0 | AC78: =AB78-AA78 -> 0 | AD78: =C78+I78+K78+M78+O78+Q78+S78+U78+W78 -> 0 | AE78: =D78+J78+L78+N78+P78+R78+T78+V78+X78 -> 0 | AF78: =AD78+AE78 -> 0 | AG78: 0 | AH78: =AG78-AF78 -> 0
A79: IB Policies en procedures
A80: DNB1778 | B80: BIC - Renovatie Informatie Beveiligings Policies&procedures (RIBPP) | E80: =C80+D80 -> 0 | F80: 0 | G80: =F80-E80 -> 0 | J80: 200 | AA80: 200 | AB80: 200 | AC80: =AB80-AA80 -> 0 | AD80: =C80+I80+K80+M80+O80+Q80+S80+U80+W80 -> 0 | AE80: =D80+J80+L80+N80+P80+R80+T80+V80+X80 -> 200 | AF80: =AD80+AE80 -> 200 | AG80: 200 | AH80: =AG80-AF80 -> 0
A81: DNB2277 | B81: BIC - Governance Informatie Beveiliging
A82: Identity and Access Management
A83: DNB1779 | B83: BIC - Key management (KEMA) | E83: =C83+D83 -> 0 | F83: 0 | G83: =F83-E83 -> 0 | AA83: 0 | AB83: 0 | AC83: =AB83-AA83 -> 0 | AD83: =C83+I83+K83+M83+O83+Q83+S83+U83+W83 -> 0 | AE83: =D83+J83+L83+N83+P83+R83+T83+V83+X83 -> 0 | AF83: =AD83+AE83 -> 0 | AG83: 0 | AH83: =AG83-AF83 -> 0
A84: DNB1780 | B84: BIC - User Access Control (USACO) | E84: 800 | F84: 600 | G84: =F84-E84 -> -200 | X84: 164 | AA84: 164 | AB84: 0 | AC84: =AB84-AA84 -> -164 | AD84: =C84+I84+K84+M84+O84+Q84+S84+U84+W84 -> 0 | AE84: =D84+J84+L84+N84+P84+R84+T84+V84+X84 -> 164 | AF84: =AD84+AE84 -> 164 | AG84: 600 | AH84: =AG84-AF84 -> 436
A85: Programmamanagement
A86: DNB1595 | B86: Programmamanagement | E86: =C86+D86 -> 0 | F86: 0 | G86: =F86-E86 -> 0 | AA86: 0 | AB86: 0 | AC86: =AB86-AA86 -> 0 | AD86: =C86+I86+K86+M86+O86+Q86+S86+U86+W86 -> 0 | AE86: =D86+J86+L86+N86+P86+R86+T86+V86+X86 -> 0 | AF86: =AD86+AE86 -> 0 | AG86: 0 | AH86: =AG86-AF86 -> 0
A87: Security Monitoring
A88: DNB1727 | B88: BIC - Implementatie CDC | E88: =C88+D88 -> 0 | F88: 0 | G88: =F88-E88 -> 0 | AA88: 0 | AB88: 0 | AC88: =AB88-AA88 -> 0 | AD88: =C88+I88+K88+M88+O88+Q88+S88+U88+W88 -> 0 | AE88: =D88+J88+L88+N88+P88+R88+T88+V88+X88 -> 0 | AF88: =AD88+AE88 -> 0 | AG88: 0 | AH88: =AG88-AF88 -> 0
A89: DNB1453 | B89: SIEM selectie en implementatie (afgesloten) | E89: =C89+D89 -> 0 | F89: 0 | G89: =F89-E89 -> 0 | AA89: 0 | AB89: 0 | AC89: =AB89-AA89 -> 0 | AD89: =C89+I89+K89+M89+O89+Q89+S89+U89+W89 -> 0 | AE89: =D89+J89+L89+N89+P89+R89+T89+V89+X89 -> 0 | AF89: =AD89+AE89 -> 0 | AG89: 0 | AH89: =AG89-AF89 -> 0
A90: DNB1781 | B90: BIC - Supplier monitoring (SuMo) | E90: =C90+D90 -> 0 | F90: 0 | G90: =F90-E90 -> 0 | AA90: 0 | AB90: 0 | AC90: =AB90-AA90 -> 0 | AD90: =C90+I90+K90+M90+O90+Q90+S90+U90+W90 -> 0 | AE90: =D90+J90+L90+N90+P90+R90+T90+V90+X90 -> 0 | AF90: =AD90+AE90 -> 0 | AG90: 0 | AH90: =AG90-AF90 -> 0
B91: Totaal | C91: =SUM(C68:C90) -> 0 | D91: =SUM(D68:D90) -> 0 | E91: =SUM(E68:E90) -> 2500 | F91: =SUM(F68:F90) -> 600 | G91: =F91-E91 -> -1900 | I91: =SUM(I68:I90) -> 0 | J91: =SUM(J68:J90) -> 250 | K91: =SUM(K68:K90) -> 0 | L91: =SUM(L68:L90) -> 50 | M91: =SUM(M68:M90) -> 0 | N91: =SUM(N68:N90) -> 400 | O91: =SUM(O68:O90) -> 0 | P91: =SUM(P68:P90) -> 100 | ... AB91: =SUM(AB68:AB90) -> 200 | AC91: =AB91-AA91 -> -814 | AD91: =SUM(AD68:AD90) -> 0 | AE91: =SUM(AE68:AE90) -> 1014 | AF91: =SUM(AF68:AF90) -> 1014 | AG91: =SUM(AG68:AG90) -> 800 | AH91: =AG91-AF91 -> -214
A94: Totaal
A95: DNB1638 | B95: Programma Best In Class Informatiebeveiliging | C95: Totaal
C96: ICT (uren) | I96: FBS | K96: C&I | M96: ID | O96: Communicatie | Q96: Repro | S96: P&O | U96: Bvtr | W96: Overig | Y96: Business (uren) | AD96: Totaal (uren)
A97: Project | B97: Omschrijving | C97: Actuals | D97: ETC | E97: EAC | F97: Budget | G97: Delta | I97: Actuals | J97: ETC | K97: Actuals | L97: ETC | M97: Actuals | N97: ETC | O97: Actuals | P97: ETC | Q97: Actuals | R97: ETC | S97: Actuals | T97: ETC | U97: Actuals | V97: ETC | W97: Actuals | X97: ETC | Y97: Actuals | Z97: ETC | AA97: EAC | AB97: Budget | AC97: Delta | AD97: Actuals | AE97: ETC | AF97: EAC | AG97: Budget | AH97: Delta
A98: Cultuur Ethiek & Gedrag
A99: DNB1769 | B99: BIC - Bewustwording nieuwe medewerkers en inhuurkrachten | E99: =E6+E37+E68 -> 0 | F99: =F6+F37+F68 -> 0 | G99: =F99-E99 -> 0 | I99: =I6+I37+I68 -> 0 | J99: =J6+J37+J68 -> 0 | K99: =K6+K37+K68 -> 0 | L99: =L6+L37+L68 -> 0 | M99: =M6+M37+M68 -> 0 | N99: =N6+N37+N68 -> 0 | O99: =O6+O37+O68 -> 0 | P99: =P6+P37+P68 -> 0 | ... X99: =X6+X37+X68 -> 0 | AA99: =AA6+AA37+AA68 -> 0 | AB99: =AB6+AB37+AB68 -> 81 | AC99: =AB99-AA99 -> 81 | AD99: =C99+I99+K99+M99+O99+Q99+S99+U99+W99 -> 0 | AE99: =D99+J99+L99+N99+P99+R99+T99+V99+X99 -> 0 | AF99: =AD99+AE99 -> 0 | AG99: =AG6+AG37+AG68 -> 81 | AH99: =AG99-AF99 -> 81
A100: DNB1770 | B100: BIC - E-Learning | E100: =E7+E38+E69 -> 50 | F100: =F7+F38+F69 -> 50 | G100: =F100-E100 -> 0 | I100: =I7+I38+I69 -> 0 | J100: =J7+J38+J69 -> 0 | K100: =K7+K38+K69 -> 355 | L100: =L7+L38+L69 -> -12 | M100: =M7+M38+M69 -> 0 | N100: =N7+N38+N69 -> 20 | O100: =O7+O38+O69 -> 0 | P100: =P7+P38+P69 -> 20 | ... X100: =X7+X38+X69 -> 30 | AA100: =AA7+AA38+AA69 -> 413 | AB100: =AB7+AB38+AB69 -> 486 | AC100: =AB100-AA100 -> 73 | AD100: =C100+I100+K100+M100+O100+Q100+S100+U100+W100 -> 355 | AE100: =D100+J100+L100+N100+P100+R100+T100+V100+X100 -> 58 | AF100: =AD100+AE100 -> 413 | AG100: =AG7+AG38+AG69 -> 486 | AH100: =AG100-AF100 -> 73
A101: DNB1771 | B101: BIC - Informeren en communiceren (project is komen te vervallen) | E101: =E8+E39+E70 -> 0 | F101: =F8+F39+F70 -> 0 | G101: =F101-E101 -> 0 | I101: =I8+I39+I70 -> 0 | J101: =J8+J39+J70 -> 0 | K101: =K8+K39+K70 -> 26 | L101: =L8+L39+L70 -> 0 | M101: =M8+M39+M70 -> 0 | N101: =N8+N39+N70 -> 0 | O101: =O8+O39+O70 -> 0 | P101: =P8+P39+P70 -> 0 | ... X101: =X8+X39+X70 -> 0 | AA101: =AA8+AA39+AA70 -> 26 | AB101: =AB8+AB39+AB70 -> 26 | AC101: =AB101-AA101 -> 0 | AD101: =C101+I101+K101+M101+O101+Q101+S101+U101+W101 -> 26 | AE101: =D101+J101+L101+N101+P101+R101+T101+V101+X101 -> 0 | AF101: =AD101+AE101 -> 26 | AG101: =AG8+AG39+AG70 -> 26 | AH101: =AG101-AF101 -> 0
A102: DNB1772 | B102: BIC - Ontwikkelmodel voor managers (omgang met vertrouwelijke informatie) | E102: =E9+E40+E71 -> 0 | F102: =F9+F40+F71 -> 0 | G102: =F102-E102 -> 0 | I102: =I9+I40+I71 -> 0 | J102: =J9+J40+J71 -> 0 | K102: =K9+K40+K71 -> 241 | L102: =L9+L40+L71 -> 44 | M102: =M9+M40+M71 -> 0 | N102: =N9+N40+N71 -> 0 | O102: =O9+O40+O71 -> 0 | P102: =P9+P40+P71 -> 0 | ... X102: =X9+X40+X71 -> 0 | AA102: =AA9+AA40+AA71 -> 285 | AB102: =AB9+AB40+AB71 -> 405 | AC102: =AB102-AA102 -> 120 | AD102: =C102+I102+K102+M102+O102+Q102+S102+U102+W102 -> 241 | AE102: =D102+J102+L102+N102+P102+R102+T102+V102+X102 -> 44 | AF102: =AD102+AE102 -> 285 | AG102: =AG9+AG40+AG71 -> 405 | AH102: =AG102-AF102 -> 120
A103: DNB1773 | B103: BIC - Training van de directie en divisiedirecteuren | E103: =E10+E41+E72 -> 0 | F103: =F10+F41+F72 -> 0 | G103: =F103-E103 -> 0 | I103: =I10+I41+I72 -> 0 | J103: =J10+J41+J72 -> 40 | K103: =K10+K41+K72 -> 0 | L103: =L10+L41+L72 -> 132 | M103: =M10+M41+M72 -> 0 | N103: =N10+N41+N72 -> 0 | O103: =O10+O41+O72 -> 0 | P103: =P10+P41+P72 -> 0 | ... X103: =X10+X41+X72 -> 0 | AA103: =AA10+AA41+AA72 -> 172 | AB103: =AB10+AB41+AB72 -> 161 | AC103: =AB103-AA103 -> -11 | AD103: =C103+I103+K103+M103+O103+Q103+S103+U103+W103 -> 0 | AE103: =D103+J103+L103+N103+P103+R103+T103+V103+X103 -> 172 | AF103: =AD103+AE103 -> 172 | AG103: =AG10+AG41+AG72 -> 161 | AH103: =AG103-AF103 -> -11
A104: DNB1774 | B104: BIC - Training voor managers | E104: =E11+E42+E73 -> 0 | F104: =F11+F42+F73 -> 0 | G104: =F104-E104 -> 0 | I104: =I11+I42+I73 -> 0 | J104: =J11+J42+J73 -> 0 | K104: =K11+K42+K73 -> 166 | L104: =L11+L42+L73 -> 10 | M104: =M11+M42+M73 -> 0 | N104: =N11+N42+N73 -> 0 | O104: =O11+O42+O73 -> 0 | P104: =P11+P42+P73 -> 0 | ... X104: =X11+X42+X73 -> 0 | AA104: =AA11+AA42+AA73 -> 174 | AB104: =AB11+AB42+AB73 -> 242 | AC104: =AB104-AA104 -> 68 | AD104: =C104+I104+K104+M104+O104+Q104+S104+U104+W104 -> 166 | AE104: =D104+J104+L104+N104+P104+R104+T104+V104+X104 -> 10 | AF104: =AD104+AE104 -> 176 | AG104: =AG11+AG42+AG73 -> 242 | AH104: =AG104-AF104 -> 66
A105: DNB1812 | B105: CEG metingen | E105: =E12+E43+E74 -> 0 | F105: =F12+F43+F74 -> 0 | G105: =F105-E105 -> 0 | I105: =I12+I43+I74 -> 0 | J105: =J12+J43+J74 -> 150 | K105: =K12+K43+K74 -> 0 | L105: =L12+L43+L74 -> 0 | M105: =M12+M43+M74 -> 0 | N105: =N12+N43+N74 -> 0 | O105: =O12+O43+O74 -> 0 | P105: =P12+P43+P74 -> 0 | ... X105: =X12+X43+X74 -> 0 | AA105: =AA12+AA43+AA74 -> 150 | AB105: =AB12+AB43+AB74 -> 123 | AC105: =AB105-AA105 -> -27 | AD105: =C105+I105+K105+M105+O105+Q105+S105+U105+W105 -> 0 | AE105: =D105+J105+L105+N105+P105+R105+T105+V105+X105 -> 150 | AF105: =AD105+AE105 -> 150 | AG105: =AG12+AG43+AG74 -> 250 | AH105: =AG105-AF105 -> 100
A106: Data classificatie
...

Sheet Budgetten
A1: Project | B1: Budget ICT (uren) | C1: Budget Business (uren) | D1: Bron (TRIM ID)
A2: USACO (fase 1 & 2) | B2: 1662 | C2: 164 | D2: Project charter (2015/771178)
A3: USACO (overige fasen) | B3: 2000 | C3: 1000 | D3: Project charter (2015/771178)
A4: CDC | B4: =3963+1212 -> 5175 | C4: 390 | D4: PMP (2015/176488)
A5: E-learning | B5: 50 | C5: 590 | D5: Project charter (2015/309800)
A6: Ontwikkelingsmodel | B6: 40 | C6: 630 | D6: Project charter (2015/332833)
A7: Training voor managers | B7: 0 | C7: 240 | D7: Project charter (2015/318662)
A8: ReDaC | D8: charter?
A9: RIBPP 2015 | B9: 240 | C9: =980+20+60+20 -> 1080 | D9: Project charter (2015/667227)
A10: RIBPP 2016 | B10: 320 | C10: 1600 | D10: Project charter (2015/667227)
A11: IDD fase 1 & 2 | B11: 300 | C11: 350 | D11: Project charter (2015/830315)
A12: IDD fase (overig) | B12: 700 | C12: 650 | D12: Project charter (2015/830315)
A13: IDA fase 1 & 2 | B13: 400 | C13: 400 | D13: Project charter (2015/830325)
A14: IDA fase (overig) | B14: 1000 | C14: 450 | D14: Project charter (2015/830325)
